BEGIN:VCALENDAR
VERSION:2.0
PRODID:-//Canyon Democrats - ECPv6.15.3//NONSGML v1.0//EN
CALSCALE:GREGORIAN
METHOD:PUBLISH
X-WR-CALNAME:Canyon Democrats
X-ORIGINAL-URL:https://canyondems.org
X-WR-CALDESC:Events for Canyon Democrats
REFRESH-INTERVAL;VALUE=DURATION:PT1H
X-Robots-Tag:noindex
X-PUBLISHED-TTL:PT1H
BEGIN:VTIMEZONE
TZID:America/Los_Angeles
BEGIN:DAYLIGHT
TZOFFSETFROM:-0800
TZOFFSETTO:-0700
TZNAME:PDT
DTSTART:20170312T100000
END:DAYLIGHT
BEGIN:STANDARD
TZOFFSETFROM:-0700
TZOFFSETTO:-0800
TZNAME:PST
DTSTART:20171105T090000
END:STANDARD
BEGIN:DAYLIGHT
TZOFFSETFROM:-0800
TZOFFSETTO:-0700
TZNAME:PDT
DTSTART:20180311T100000
END:DAYLIGHT
BEGIN:STANDARD
TZOFFSETFROM:-0700
TZOFFSETTO:-0800
TZNAME:PST
DTSTART:20181104T090000
END:STANDARD
BEGIN:DAYLIGHT
TZOFFSETFROM:-0800
TZOFFSETTO:-0700
TZNAME:PDT
DTSTART:20190310T100000
END:DAYLIGHT
BEGIN:STANDARD
TZOFFSETFROM:-0700
TZOFFSETTO:-0800
TZNAME:PST
DTSTART:20191103T090000
END:STANDARD
END:VTIMEZONE
BEGIN:VTIMEZONE
TZID:UTC
BEGIN:STANDARD
TZOFFSETFROM:+0000
TZOFFSETTO:+0000
TZNAME:UTC
DTSTART:20170101T000000
END:STANDARD
END:VTIMEZONE
BEGIN:VEVENT
DTSTART;VALUE=DATE:20190123
DTEND;VALUE=DATE:20190125
DTSTAMP:20260424T041043
CREATED:20190117T210843Z
LAST-MODIFIED:20200815T120226Z
UID:2360-1548201600-1548374399@canyondems.org
SUMMARY:Point-in-Time Count Volunteer Opportunity
DESCRIPTION:Our new Community Outreach committee is diving in to help the homeless in Orange County.  You can join us by volunteering along with us at the 2019 Point-in-Time Count.  The Orange County United Way is looking for volunteers to help with the 2-day count that will determine levels of services and funding needed from local\, state\, and federal agencies. \n  \nFind out how you can get involved by visiting the United to End Homelessness sign-up page here.  Monetary donations are also needed! \n  \nYou can find out more about the Orange County Point-in-Time Count at the official Count of Orange website. \n  \n[themify_button style=”large red” link=”https://static1.squarespace.com/static/5b9c08fff2e6b1a761ddf4b1/t/5c33e4d74d7a9c15848270a3/1546904791663/2.0+EveryoneCountsOC+Fact+Sheet+-+Cities+and+deployment+Centers+%281%29.pdf” target=”<strong>_blank</strong>”]Point-in-Time Count Info[/themify_button]
URL:https://canyondems.org/event/point-in-time-count-2019/
CATEGORIES:Action
END:VEVENT
BEGIN:VEVENT
DTSTART;VALUE=DATE:20190119
DTEND;VALUE=DATE:20190120
DTSTAMP:20260424T041043
CREATED:20181208T073717Z
LAST-MODIFIED:20200815T000930Z
UID:2295-1547856000-1547942399@canyondems.org
SUMMARY:3rd Annual Women's March
DESCRIPTION:Join Canyon Democrats\, thousands of like-minded citizens in Orange County\, and participants nationwide\, for the 3rd Annual Women’s March on January 19\, 2019.\nWe made our voices heard in the Midterms and now it’s time to get even louder to make sure the folks in Washington know we’re not done! This year’s March theme is Celebrating Women: Yesterday\, Today and Tomorrow. \nThe cost for the bus is $20 per person. Seating is limited and will be on first come\, first served basis. \n[themify_button style=”large red” link=”https://secure.actblue.com/donate/canyondemsbus2019″ target=”<strong>_blank</strong>”]Get your bus tickets now![/themify_button] \nOur bus will depart from the Murray Center at 24932 Veterans Way in Mission Viejo at 8:00am sharp\, and will leave the Women’s March in Santa Ana at 1:30 pm. Approximate arrival back at Murray Center is 2:30 pm. A restroom will be located on the bus! \nWe will be having an informal meeting in the Murray Center lounge on January 7th at 4:00 PM to discuss possible songs and other ways the participants from the Canyon Dems can show our spirit as a part of this year’s theme. \nJoin us for our Sign-Making Party a week before the March on January 12th\, too! Find out more and RSVP! (Space is limited!) \nTo stay updated\, volunteer\, or RSVP for the Orange County March\, please visit the OC Women’s March website.  You can also follow their Facebook page for updates. \nWe hope to see you there!
URL:https://canyondems.org/event/3rd-annual-womens-march/
LOCATION:Downtown Santa Ana\, Civic Center & N Flower Street\, Santa Ana\, CA
CATEGORIES:Action
END:VEVENT
BEGIN:VEVENT
DTSTART;TZID=America/Los_Angeles:20190112T133000
DTEND;TZID=America/Los_Angeles:20190112T153000
DTSTAMP:20260424T041043
CREATED:20181209T050142Z
LAST-MODIFIED:20200815T002505Z
UID:2307-1547299800-1547307000@canyondems.org
SUMMARY:Women's March Sign-Making Party
DESCRIPTION:Join us for our epic Sign-Making Party a week before the Women’s March. Get your creativity flowing and get inspired as we get together to make signs for the 3rd Annual Women’s March.  This years theme is Celebrating Women: Yesterday\, Today\, and Tomorrow.  The Women’s March organizers are encouraging everyone to stay positive on their messaging and we think it will be easy since we are sending a RECORD number of women to Congress this year.  Many of the women who won elected office both locally and nationally credited their decision with attending the Women’s Marches in 2017 and 2018.  Let’s make some signs to thank them and inspire a whole new group of amazing women to run for School Board to President! \nSo bring poster boards\, markers and materials to decorate your sign and let’s make some amazing messages! \nSaturday\, January 12th\nMurray Center – Jacaranda room\n1:30pm to 3:30pm\nSpace is limited\, so make sure you click that RSVP button at the top of the page and let us know you’re coming! \nThis year’s inspiration gallery comes from the kids!
URL:https://canyondems.org/event/womens-march-sign-making-party-2019/
LOCATION:Home of a Mission Viejo Member\, Mission Viejo\, CA\, United States
CATEGORIES:Action
ORGANIZER;CN="Canyon Democrats":MAILTO:info@canyondems.org
END:VEVENT
BEGIN:VEVENT
DTSTART;TZID=America/Los_Angeles:20181021T130000
DTEND;TZID=America/Los_Angeles:20181021T170000
DTSTAMP:20260424T041043
CREATED:20181019T062457Z
LAST-MODIFIED:20200814T234719Z
UID:2222-1540126800-1540141200@canyondems.org
SUMMARY:Get-Out-The-Vote Letter-Writing Party by SOCDC and VoteForward
DESCRIPTION:
URL:https://canyondems.org/event/get-out-the-vote-letter-writing-party-by-socdc-and-voteforward/
LOCATION:24392 Timothy Drive\, Dana Point\, 24392 Timothy Drive\, Dana Point\, 92629\, United States
CATEGORIES:Action
END:VEVENT
BEGIN:VEVENT
DTSTART;TZID=America/Los_Angeles:20181010T180000
DTEND;TZID=America/Los_Angeles:20181010T203000
DTSTAMP:20260424T041043
CREATED:20180920T185751Z
LAST-MODIFIED:20200815T002546Z
UID:2172-1539194400-1539203400@canyondems.org
SUMMARY:Youth Election Party! by People Power
DESCRIPTION:Get Tips & Tools for Voting Smart this November! Let’s do this!\nBring: Your Sample Ballot\, Handheld device (charger if necessary)\, analytical mind and your sense of patriotism. #PowerToThePolls \nGoal: Learn which issues and candidates are relevant to you. Participate in group discussions\, get information on the voting process and learn how to research candidates & propositions before you vote. \n”It has been said that democracy is the worst form of government except all those other forms that have been tried from time to time.” — Winston Churchill\, on the floor of Parliament in November 1947. \nComplimentary food & beverages provided to the first 40 RSVPs aged 18-25. All political preferences respected. \nRSVP NOW
URL:https://canyondems.org/event/youth-election-party-by-people-power/
LOCATION:Marie Callender’s Restaurant & Bakery\, 31791 Del Obispo Street\, San Juan Capistrano\, CA\, 92675\, United States
CATEGORIES:Action,Event
ATTACH;FMTTYPE=image/jpeg:https://canyondems.org/wp-content/uploads/2018/09/youthparty.jpg
END:VEVENT
BEGIN:VEVENT
DTSTART;TZID=America/Los_Angeles:20180421T080000
DTEND;TZID=America/Los_Angeles:20180421T120000
DTSTAMP:20260424T041043
CREATED:20180323T011105Z
LAST-MODIFIED:20200815T000846Z
UID:1640-1524297600-1524312000@canyondems.org
SUMMARY:Earth Day/Arbor Day Celebration - Cordova Park\, Mission Viejo
DESCRIPTION:Please join us on April 21st for Earth Day 2018 as we roll up our sleeves and work hard to make our community greener.  We’ll be pitching in at the City of Mission Viejo’s event at Cordova Park to plant new landscaping and help beautify our community. The city will also be serving up free hot dogs and ice cream! So grab your shovel and your green thumb and spend the day with us as we celebrate this beautiful and crazy\, spinning mass we all call home. \nWhen: Saturday\, April 21st\nWhere: Cordova Park\, 26931 El Retiro\, Mission Viejo\, CA 92692 \nDetails: You’ll need print and bring a volunteer form with you. Get the form here.  Volunteers should wear hats\, gloves\, boots\, and sunscreen and bring a shovel for planting. We’re planning to wear our Canyon Dems t-shirts\, too! To visit the Mission Viejo event page\, click here. \nRSVP to let us know you plan on coming!
URL:https://canyondems.org/event/earthday/
LOCATION:Cordova Park\, 26931 El Retiro\, Mission Viejo\, 92692\, United States
CATEGORIES:Action,Holiday
END:VEVENT
BEGIN:VEVENT
DTSTART;TZID=America/Los_Angeles:20180420T110000
DTEND;TZID=America/Los_Angeles:20180420T123000
DTSTAMP:20260424T041043
CREATED:20180417T195905Z
LAST-MODIFIED:20200815T002857Z
UID:1835-1524222000-1524227400@canyondems.org
SUMMARY:SOC4CHANGE Rally
DESCRIPTION:Come join local students as they organize to make their voices heard on gun sense legislation!\nAccording to their website: “We\, the students of Orange County\, have made a commitment to be the generation to finally say #neveragain. We are calling for Congress to institute universal\, comprehensive background checks\, increase budget allocation for school safety\, fund the Center for Disease Control’s research into gun violence\, and implement a ban on the sale of assault weapons and high-capacity magazines in order to address the issue of gun violence in this America.” \nIn order to get their message out to the community and local legislators\, they are holding SOC4CHANGE Rally! Grab your signs\, your voice and friends and let’s join them! \nWHO: Students\, parents\, teachers… anyone willing to make a change! \nWHAT: A rally to demand Congress to enact legislation to address the issue of gun violence in America \nWHEN: April 20th @ 11:00 am\, marking the 19 year anniversary of the Columbine shooting \nWHERE: 4 Civic Center Plaza\, Irvine\, CA 92606
URL:https://canyondems.org/event/soc4change-rally/
LOCATION:Bill Barber Memorial Park\, 4 Civic Center Plaza\, Irvine\, CA\, 92606\, United States
CATEGORIES:Action
ORGANIZER;CN="SOC4CHANGE":MAILTO:soc4change@gmail.com
END:VEVENT
BEGIN:VEVENT
DTSTART;TZID=America/Los_Angeles:20180414T103000
DTEND;TZID=America/Los_Angeles:20180414T123000
DTSTAMP:20260424T041043
CREATED:20180406T183005Z
LAST-MODIFIED:20200815T085858Z
UID:1741-1523701800-1523709000@canyondems.org
SUMMARY:Rally for Science: Fullerton
DESCRIPTION:Participate in the March for Science this year at the closest satellite march in Fullerton.  According to the event organizers: \n“This is a family-friendly event to support evidence-based science. This is a follow-up to our successful Fullerton March for Science last year\, which drew nearly 2\,000 participants. It also is a satellite event to the world-wide March for Science taking place on April 14\, 2018. \nThe event will include a rally\, a series of short speeches\, and a sidewalk march around the super-block where Fullerton City Hall and the Fullerton Library are located. Bring your voices\, signs\, posters\, and banners. \nConfirmed speakers include Kathleen Treseder\, UCI Regents Professor of Biology\, chemist and former Congressional candidate Phil Janowicz\, Fullerton Council-member Jesus Silva\, State Senator Josh Newman\, Assemblymember Sharon Quirk-Silva\, former State Senator Joe Dunn\, among others. Willie Holmes will be our Master of Ceremonies\, and his sister will lead us in the national anthem. \nThe event is fully permitted and insured. \n(Note that the Faces of Fullerton event will be running from 10 AM to 3 PM at the Plaza on Wilshire on the same day as our event\, so we are keeping our activities at or near City Hall so as not to interfere. Also Rally participants are encouraged to check out Faces of Fullerton after our event ends.)”
URL:https://canyondems.org/event/rally-for-science-fullerton/
LOCATION:Fullerton City Hall\, 303 W. Commonwealth Avenue\, Fullertson\, CA\, 92832\, United States
CATEGORIES:Action
END:VEVENT
BEGIN:VEVENT
DTSTART;TZID=America/Los_Angeles:20180331T093000
DTEND;TZID=America/Los_Angeles:20180331T120000
DTSTAMP:20260424T041043
CREATED:20180303T225144Z
LAST-MODIFIED:20200815T003828Z
UID:1538-1522488600-1522497600@canyondems.org
SUMMARY:March March - Neighborhood leafleting and tailgate lunch
DESCRIPTION:Join us for a morning walk starting at 9:30 AM in Rancho Santa Margarita to drop Canyon Dems literature on the doorsteps of fellow Democrats. Our goal is to get as many folks as possible\, in a short period of time\, notified that\,” we’re here\, we’re making a difference\, join us!” We’ll cover as many households as we can in 1 1/2 hours (or whatever you can do) and meet back at the park for a fun lunch. \nSign up now over on our volunteer page. \n  \n 
URL:https://canyondems.org/event/march-march-neighborhood-leafleting-tailgate-lunch/
CATEGORIES:Action
END:VEVENT
BEGIN:VEVENT
DTSTART;TZID=America/Los_Angeles:20180324T140000
DTEND;TZID=America/Los_Angeles:20180324T170000
DTSTAMP:20260424T041043
CREATED:20180303T224606Z
LAST-MODIFIED:20200814T202344Z
UID:1531-1521900000-1521910800@canyondems.org
SUMMARY:March for our Lives OC
DESCRIPTION:We’ve got the latest on the March for our Lives OC! The march will circle around Centennial Park and feature many local students as speakers.  If you read the recent article in the Register about the National School Walkout then you know our local students are ready to lead on the issue of gun violence–and the Canyon Dems are working hard to make their voices heard! \nThe March for our Lives is at Centennial Regional Park\, 3000 W Edinger Ave\, Santa Ana\, California 92704 from 2:00 PM to 5:00 PM on March 24th.  The march route will follow the circular\, 1.25 mile road the runs along the outside of the park.  If someone can’t walk the whole route\, there are easy shortcuts back to the main stage area.  The event is being held later in the afternoon so participants at the Great American Write-In can also make it! You can visit the main website to register for the March\, find out more about the national march and donate to help with the costs of organizing the March.  Visit marchforourlivesoc.com for updates. \nLATEST NEWS ON PARKING: \nVOLUNTEERS/EARLY ARRIVALS: If you’re comfortable walking 1/2+ miles\, there is on street parking in the industrial complex south of the park. From Fairview\, enter on Harvard. Walk north on Fairview to Centennial Road/Godinez High School entrance to park. Please observe the posted no stopping areas. \nPARKING LOTS IN THE PARK: \n\nUse main entrance on Edinger at S. Mohawk Drive. Lots on either side of entrance are available\, and a short walk to rally area.\nFor disabled access\, use main entrance and turn right on Centennial Road. Follow the road around the lake to lot near stage\nIf the lots at north end of park by main entrance are full\, follow directions to disabled access parking. There is a parking garage adjacent to that lot.\n\n*** BE GOOD NEIGHBORS! PLEASE DO NOT PARK IN THE NEIGHBORHOODS EAST OF THE PARK ON FAIRVIEW AND NORTH OF THE PARK ON EDINGER ** \n  \n  \n  \n  \n  \n  \n  \nWant to get involved?  \n\nCarry our club banner! Interested in walking with Canyon Dems banner at the March for our Lives OC? Let us know by emailing info@canyondems.org!
URL:https://canyondems.org/event/march-lives-oc/
CATEGORIES:Action,Event
END:VEVENT
BEGIN:VEVENT
DTSTART;TZID=America/Los_Angeles:20180322T183000
DTEND;TZID=America/Los_Angeles:20180322T200000
DTSTAMP:20260424T041043
CREATED:20180307T193005Z
LAST-MODIFIED:20200816T064837Z
UID:1543-1521743400-1521748800@canyondems.org
SUMMARY:Candidate Forum - Non-Partisan OC Seats
DESCRIPTION:Event organizers have confirmed the following candidates will be in attendance:\nMary Navarro\, Candidate for OC Board of Education\nMike Dalati\, Candidate for OC Board of Education\nDuke Nguyen\, Candidate for OC Sheriff \nBrett Murdock\, Candidate for OC District Attorney\nLenore Albert-Sheridan\, Candidate for OC District Attorney\nNate Epstein\, Candidate for OC Assessor
URL:https://canyondems.org/event/oc-candidateforum/
LOCATION:Lake Forest 2 – Surf and Sail Club\, 24752 Toledo Way\, Lake Forest\, CA\, 92630\, United States
CATEGORIES:Action,Event
ORGANIZER;CN="Andrea Alexander":MAILTO:andreaalexander12@ymail.com
END:VEVENT
BEGIN:VEVENT
DTSTART;TZID=America/Los_Angeles:20180317T093000
DTEND;TZID=America/Los_Angeles:20180317T120000
DTSTAMP:20260424T041043
CREATED:20180309T000810Z
LAST-MODIFIED:20200814T235402Z
UID:1561-1521279000-1521288000@canyondems.org
SUMMARY:Neighborhood Walk in Lake Forest
DESCRIPTION:Canyon Democrats join with our friends from the Courage Campaign and WAVE to visit voters in Lake Forest neighborhoods. Find out what issues concern Democrats and No-Party-Preference voters. Pass out information about our endorsed candidates. Team up with folks who are coming to our community to help us canvass. \nAll you need is your walking shoes\, perhaps a hat if it is sunny\, and a few hours to help inform our voters about the importance of the June 5th Election. Everything else you need will be provided when we meet up. If you talk to your neighbors you already know how to do this!! Water and snacks will be provided. \nCOME JOIN THE WAVE TO TURN OC BLUE! AND SEND A MESSAGE TO WASHINGTON\, D.C. \n[themify_button style=”large red” link=”https://canyondems.org/volunteer-opportunity/neighborhood-walk-lake-forest/” color=”#c70000″ text=”#ffffff”]RSVP for the walk on our Volunteer Page[/themify_button]
URL:https://canyondems.org/event/neighborhood-walk-lake-forest/
CATEGORIES:Action
END:VEVENT
BEGIN:VEVENT
DTSTART;TZID=America/Los_Angeles:20180216T163000
DTEND;TZID=America/Los_Angeles:20180216T183000
DTSTAMP:20260424T041043
CREATED:20180215T091814Z
LAST-MODIFIED:20200814T213633Z
UID:1497-1518798600-1518805800@canyondems.org
SUMMARY:Gun Control Rally at Mimi Walters' Office
DESCRIPTION:ENOUGH IS ENOUGH!\nWe need to show Mimi Walters that her constituents are disgusted by her continuing acceptance of gun lobbyist money at the expense of our children’s safety.  According to Washington Post\, 150\,000 students attending at least 170 primary or secondary schools have experienced a shooting on their campus since Columbine.  Without legislative change\, this problem will not go away!  Instead of standing up for kids and families that are dealing with this\, Mimi is actively co-sponsoring legislation that will make it easier to undermine the stricter gun laws we’ve passed as Californians. \nShow up and help us send a clear message–her position is wrong and it has terrible consequences. \n  \nWHEN: FRIDAY\, FEBRUARY 16TH\, 4:30PM – 6:30PM\nWHERE: IN FRONT OF MIMI WALTERS’ OFFICE\, 3333 Michelson Drive\, Irvine\, CA 92612\n\nBring signs with the names of shooting victims & against gun violence.\nWe will have post-it notes so people can leave their notes on Mimi’s office door.\nWe will also have Valentine’s hearts that you can write a name on for Mimi.\nWe will have a list of victims names from various mass shootings that will be read out loud at the rally.
URL:https://canyondems.org/event/gun-control-rally-mimi-walters-office/
LOCATION:Mimi Walters’ Office\, 3333 Michelson Drive\, Irvine\, CA\, 92612\, United States
CATEGORIES:Action
END:VEVENT
BEGIN:VEVENT
DTSTART;TZID=America/Los_Angeles:20180203T090000
DTEND;TZID=America/Los_Angeles:20180203T100000
DTSTAMP:20260424T041043
CREATED:20180105T041041Z
LAST-MODIFIED:20200814T213503Z
UID:1311-1517648400-1517652000@canyondems.org
SUMMARY:FLIP THE HOUSE Pancake Breakfast
DESCRIPTION:We’ve got pancakes and we are HUNGRY to Flip the House blue this November.  If you’re as hungry as we are\, grab a friend and RSVP for our FREE pancake breakfast.  We’ll be carbing up and loading you and your buddies with all the info you’ll need to feel comfortable getting out the word by yourself\, with friends\, on your own street or in a group voting registration booth.  The choices are endless!  We will be having pancakes and sausage and a short explanation on how to register voters without stressing out.  If you’ve been looking for a time to get more involved\, let us make it easy over fresh\, hot pancakes!  Pancakes will be served from 9:00 am – 10:00 am so be sure to come early!
URL:https://canyondems.org/event/pancake-breakfast/
LOCATION:Home of a Mission Viejo Member\, Mission Viejo\, CA\, United States
CATEGORIES:Action,Event,Voter Registration Activities
END:VEVENT
BEGIN:VEVENT
DTSTART;TZID=America/Los_Angeles:20180112T180000
DTEND;TZID=America/Los_Angeles:20180112T190000
DTSTAMP:20260424T041043
CREATED:20180105T050037Z
LAST-MODIFIED:20200815T002736Z
UID:1319-1515780000-1515783600@canyondems.org
SUMMARY:Mission Viejo Public Hearing: District-Based Elections
DESCRIPTION:The City Council of Mission Viejo will be holding a public hearing at 6:00 PM in the Council Chamber at 200 Civic Center to discuss the City’s interest in and the process for transitioning from at-large to district-based council member elections.  If you live in Mission Viejo and want to make your voice heard on this subject\, be sure to show up early!  This is the fourth of five public hearings that will be held on this topic and the City Council will vote on the matter at the last one.  To find out more about the hearing\, visit the City of Mission Viejo’s website here. \nIf you’re not sure what the difference is between district-based and at-large elections\, you can view the city’s description and the reason why they’ve undertaken the hearings for a potential transition here.  Generally\, “at-large” elections mean that every voter in Mission Viejo votes for every seat on the City Council.  District-based elections split the city into smaller districts and voters of each district elect a council member from their own district.  District-based elections are often favorable for smaller neighborhoods or diverse cities to have minority viewpoints find representation on a council rather than getting shut out completely. \nIf you have questions about what this change could mean or how to participate your local City Council meetings\, let us know by emailing us info@canyondems.org.
URL:https://canyondems.org/event/mission-viejo-district-based-elections-hearing4/
LOCATION:Council Chamber\, 200 Civic Center\, Mission Viejo\, 92691\, United States
CATEGORIES:Action
END:VEVENT
BEGIN:VEVENT
DTSTART;TZID=America/Los_Angeles:20180109T180000
DTEND;TZID=America/Los_Angeles:20180109T190000
DTSTAMP:20260424T041043
CREATED:20180105T045601Z
LAST-MODIFIED:20200814T235854Z
UID:1316-1515520800-1515524400@canyondems.org
SUMMARY:Mission Viejo Public Hearing: District-Based Elections
DESCRIPTION:The City Council of Mission Viejo will be holding a public hearing at 6:00 PM in the Council Chamber at 200 Civic Center to discuss the City’s interest in and the process for transitioning from at-large to district-based council member elections.  If you live in Mission Viejo and want to make your voice heard on this subject\, be sure to show up early!  This is the third of five public hearings that will be held on this topic and the City Council will vote on the matter at the last one.  To find out more about the hearing\, visit the City of Mission Viejo’s website here. \nIf you’re not sure what the difference is between district-based and at-large elections\, you can view the city’s description and the reason why they’ve undertaken the hearings for a potential transition here.  Generally\, “at-large” elections mean that every voter in Mission Viejo votes for every seat on the City Council.  District-based elections split the city into smaller districts and voters of each district elect a council member from their own district.  District-based elections are often favorable for smaller neighborhoods or diverse cities to have minority viewpoints find representation on a council rather than getting shut out completely. \nIf you have questions about what this change could mean or how to participate your local City Council meetings\, let us know by emailing us info@canyondems.org.
URL:https://canyondems.org/event/mission-viejo-district-based-elections-hearing3/
LOCATION:Council Chamber\, 200 Civic Center\, Mission Viejo\, 92691\, United States
CATEGORIES:Action
END:VEVENT
BEGIN:VEVENT
DTSTART;TZID=America/Los_Angeles:20171026T190000
DTEND;TZID=America/Los_Angeles:20171026T210000
DTSTAMP:20260424T041043
CREATED:20171005T183424Z
LAST-MODIFIED:20200816T022546Z
UID:940-1509044400-1509051600@canyondems.org
SUMMARY:Training for Neighborhood Outreach
DESCRIPTION:Come and learn how to visit neighbors who are Democrats and No Party Preference folks.\n\n 
URL:https://canyondems.org/event/training-neighborhood-outreach/
LOCATION:Home of a Mission Viejo Member\, Mission Viejo\, CA\, United States
CATEGORIES:Action
END:VEVENT
BEGIN:VEVENT
DTSTART;TZID=America/Los_Angeles:20170902T130000
DTEND;TZID=America/Los_Angeles:20170902T150000
DTSTAMP:20260424T041043
CREATED:20170823T222528Z
LAST-MODIFIED:20200815T005827Z
UID:830-1504357200-1504364400@canyondems.org
SUMMARY:GroDPOC - Intro to Canvassing & Voter Outreach
DESCRIPTION:Check out this training hosted by the DPOC as part of their new initiative to grow the Democratic voter base in Orange County!  You can find out more details and register for the training on their Facebook page here: https://www.facebook.com/events/262950750863045\nStudies show that canvassing is the the most effective way to win elections. Join us to flip Orange County blue! \nThis is an introduction to canvassing/voter outreach with the Grassroots Organizing Program of the Democratic Party of Orange County (GRO*DPOC). \nYou will learn how to listen actively to the concerns of voters\, and help them identify Democratic party and other progressive activities in which they may be interested. \nNo previous experience required – just an interest in finding out more about how we are going to turn Orange County blue! \nLed by Linda May with Joe McLaughlin.
URL:https://canyondems.org/event/grodpoc-intro-canvassing-voter-outreach/
LOCATION:Democratic Party of Orange County\, 1916 W Chapman Ave\, Ste B\, Orange\, CA\, 92868\, United States
CATEGORIES:Action,Voter Registration Activities
ORGANIZER;CN="DPOC":MAILTO:info@ocdemocrats.org
END:VEVENT
BEGIN:VEVENT
DTSTART;TZID=America/Los_Angeles:20170805T130000
DTEND;TZID=America/Los_Angeles:20170805T150000
DTSTAMP:20260424T041043
CREATED:20170731T201610Z
LAST-MODIFIED:20200816T230223Z
UID:747-1501938000-1501945200@canyondems.org
SUMMARY:CA-45 Town Hall: Presented by Planned Parenthood
DESCRIPTION:Planned Parenthood along with several other organizations are hosting a Town Hall in Mimi Walters’ district.  Find out more about the event and RSVP here. The event is free\, but you must RSVP to attend!
URL:https://canyondems.org/event/ca-45-town-hall-presented-planned-parenthood/
LOCATION:Irvine United Congregational Church\, 4915 Alton Pkwy\, Irvine\, CA\, 92604\, United States
CATEGORIES:Action
END:VEVENT
BEGIN:VEVENT
DTSTART;TZID=America/Los_Angeles:20170801T183000
DTEND;TZID=America/Los_Angeles:20170801T213000
DTSTAMP:20260424T041043
CREATED:20170731T200204Z
LAST-MODIFIED:20200814T234649Z
UID:738-1501612200-1501623000@canyondems.org
SUMMARY:CA-48 Town Hall: Presented by Indivisible OC 48
DESCRIPTION:Indivisible OC 48 along with several other organizations are hosting a Town Hall in Dana Rohrabacher’s district.  Congressman Ted Lieu will be there!  Find out more about the event and register for tickets here. The event is free\, but you must register to attend!
URL:https://canyondems.org/event/ca-48-town-hall-presented-indivisible-oc-48/
LOCATION:Aliso Niguel High School Gym\, 28000 Wolverine Way\, Aliso Viejo\, CA\, 92656\, United States
CATEGORIES:Action
END:VEVENT
BEGIN:VEVENT
DTSTART;TZID=UTC:20170615T090000
DTEND;TZID=UTC:20170615T160000
DTSTAMP:20260424T041043
CREATED:20170607T033731Z
LAST-MODIFIED:20200816T030013Z
UID:250-1497517200-1497542400@canyondems.org
SUMMARY:Visit to Senator Kamala Harris' Los Angeles Office
DESCRIPTION:
URL:https://canyondems.org/event/visit-to-senator-kamala-harris-los-angeles-office/
CATEGORIES:Action
END:VEVENT
END:VCALENDAR