BEGIN:VCALENDAR
VERSION:2.0
PRODID:-//Canyon Democrats - ECPv6.15.3//NONSGML v1.0//EN
CALSCALE:GREGORIAN
METHOD:PUBLISH
X-WR-CALNAME:Canyon Democrats
X-ORIGINAL-URL:https://canyondems.org
X-WR-CALDESC:Events for Canyon Democrats
REFRESH-INTERVAL;VALUE=DURATION:PT1H
X-Robots-Tag:noindex
X-PUBLISHED-TTL:PT1H
BEGIN:VTIMEZONE
TZID:America/Los_Angeles
BEGIN:DAYLIGHT
TZOFFSETFROM:-0800
TZOFFSETTO:-0700
TZNAME:PDT
DTSTART:20180311T100000
END:DAYLIGHT
BEGIN:STANDARD
TZOFFSETFROM:-0700
TZOFFSETTO:-0800
TZNAME:PST
DTSTART:20181104T090000
END:STANDARD
BEGIN:DAYLIGHT
TZOFFSETFROM:-0800
TZOFFSETTO:-0700
TZNAME:PDT
DTSTART:20190310T100000
END:DAYLIGHT
BEGIN:STANDARD
TZOFFSETFROM:-0700
TZOFFSETTO:-0800
TZNAME:PST
DTSTART:20191103T090000
END:STANDARD
BEGIN:DAYLIGHT
TZOFFSETFROM:-0800
TZOFFSETTO:-0700
TZNAME:PDT
DTSTART:20200308T100000
END:DAYLIGHT
BEGIN:STANDARD
TZOFFSETFROM:-0700
TZOFFSETTO:-0800
TZNAME:PST
DTSTART:20201101T090000
END:STANDARD
END:VTIMEZONE
BEGIN:VEVENT
DTSTART;TZID=America/Los_Angeles:20201103T070000
DTEND;TZID=America/Los_Angeles:20201103T200000
DTSTAMP:20260424T054741
CREATED:20191118T200643Z
LAST-MODIFIED:20201017T210526Z
UID:4367-1604386800-1604433600@canyondems.org
SUMMARY:Election Day
DESCRIPTION:General Election\, November 3\, 2020\n\nGot questions about how or where to vote? We’ve got answers!\nMOST COMMON NEEDS:\nRegister to Vote Online (If you moved\, you must re-register to vote.)\nCheck Your Registration Status in Orange County\n16 and 17 Year Olds Preregister Here\nInformation on Military and Overseas Voting \nWHEN AND HOW TO VOTE:\nOrange County is changing to Voting Centers in 2020! You’ll no longer receive information about polling locations. Instead\, you’ll have the convenience of Voting Centers that will be open for 5 days prior to an election day and hundreds of convenient ballot Drop Boxes.  And every registered voter will receive a ballot in the mail! \nFind out more about Orange County’s new Voting Centers\nFind your nearest Vote Center or Drop Box \nSEE OUR LIST OF ENDORSED CANDIDATES AND BALLOT MEASURES
URL:https://canyondems.org/event/election-day-2020/
CATEGORIES:Election
END:VEVENT
BEGIN:VEVENT
DTSTART;TZID=America/Los_Angeles:20200303T070000
DTEND;TZID=America/Los_Angeles:20200303T200000
DTSTAMP:20260424T054741
CREATED:20191118T200506Z
LAST-MODIFIED:20200814T213751Z
UID:4364-1583218800-1583265600@canyondems.org
SUMMARY:Primary Election Day
DESCRIPTION:Election Day Info\nThis will be the first time Orange County will use Voting Centers.  Every registered voter will be mailed a ballot.  Voters can then choose to mail it back (at no cost)\, drop it off at ANY Voting Center\, or drop in to a Voting Center to cast a ballot on-site. \n[themify_button style=”large red” link=”https://ocvote.com/fileadmin/vc/vclist.html” target=”<strong>_blank</strong>”]Find your closest Vote Center or Drop Box![/themify_button] \nYou still need to register to vote\, but you can also drop into any Voting Center location to register and vote the same day!  For more information on voting centers\, visit the Orange County Registrar’s website. \nNeed to check the status of your registration? \n\nOFFICIALLY-ENDORSED DEMOCRATIC CANDIDATES\n\n\nCongressional Representative\nDistrict 45 – Katie Porter*\nDistrict 49 – Mike Levin*\nState Senate\nDistrict 37 (No endorsement) – Dave Min (Democrat)\, Katrina Foley (Democrat)\nState Assembly\nDistrict 73 – Scott Rhinehart\nDistrict 68 – Melissa Fox\nCounty Offices\nOrange County Board of Education\, Trustee Area 3 – Andy Thorburn\nOrange County Board of Supervisors\, District 3 – Ashleigh Aitken\n* Indicates incumbent candidate \n2020 Proposition 13 – YES\nIt is different from the 1978 Jarvis Proposition 13\, which crippled California’s ability to fund vital needs. 2020 Proposition 13 provides needed funds for school facilities. 2020 Proposition 13 is endorsed by the California Democratic Party. It “authorizes Bonds for Facility Repair\, Construction\, and Modernization at Public Preschools\, K-12 Schools\, Community Colleges\, and Universities. Legislative Statute.” And raises the ceilings for school and community college districts’ bonds. Authorizes $15 billion in state general obligation bonds to improve public education facilities\, including earthquake/fire safety and removal of lead from water. Limits administrative costs to 5 percent. \nMeasure A – NO\n“An Ordinance … Amending the [Orange] County Charter to Require a 2/3 Vote of the Board of Supervisors to Propose Taxes …” Currently a simple majority is required to present for election the imposition\, extension\, or increase of a tax. This measure raises the requirement to a vote by four of the five Supervisors\, making it extremely difficult to raise revenues. It is an attempt by current Republican supervisors to tie the hands of Democrats if they should win the majority of seats on the Board of Supervisors. \nCapistrano Unified School District\nSchool Facilities Improvement Bond – YES on Measure I\n“Capistrano Unified School District School Facilities Improvement Bond Measure.” Generates $300 million in bond funds. Tax on property not to exceed $34 per $100\,000 assessed value. Bond funds may be used only to build or improve school facilities; cannot be used for salaries or other operating expenses; requires annual performance and financial audits; establishes an independent citizen’s oversight committee. \nSaddleback Valley Unified School District\nLocal School Facilities Improvement Bond – YES on Measure M\n“Saddleback Valley Unified School District School Facilities Safe and Modern Classroom Bond Measure.” It is similar to Measure I above\, except for a different amount: $495 million. \n\n  \nLIVE IN ORANGE COUNTY\, BUT NOT IN OUR AREA?\nCheck out the Democratic Party of Orange County’s Endorsement Guide to find out all of our endorsed candidates across Orange County!\n \n 
URL:https://canyondems.org/event/primary-election-day/
CATEGORIES:Election
END:VEVENT
BEGIN:VEVENT
DTSTART;VALUE=DATE:20181106
DTEND;VALUE=DATE:20181107
DTSTAMP:20260424T054741
CREATED:20171229T073419Z
LAST-MODIFIED:20200814T214902Z
UID:1302-1541462400-1541548799@canyondems.org
SUMMARY:General Election Day 2018
DESCRIPTION:
URL:https://canyondems.org/event/general-election-day-2018/
CATEGORIES:Election
END:VEVENT
BEGIN:VEVENT
DTSTART;TZID=America/Los_Angeles:20180613T170000
DTEND;TZID=America/Los_Angeles:20180613T200000
DTSTAMP:20260424T054741
CREATED:20180320T203539Z
LAST-MODIFIED:20200814T193707Z
UID:1621-1528909200-1528920000@canyondems.org
SUMMARY:Summer Kick-Off Happy Hour
DESCRIPTION:You are invited to join fellow Orange County democrats for a fund-raiser to support the 2018 democratic candidates in districts 45 and 49. This is your first chance to meet and hear from the general election candidates for 2018. This is a can’t miss event to kick-off our general election efforts. Let’s work together to turn Orange County blue! \nTo register for this event\, please click here to go to Act Blue.
URL:https://canyondems.org/event/summer-kick-off-happy-hour/
LOCATION:Arroyo Trabuco Golf Club\, 26772 Avery Parkway\, Mission Viejo\, CA\, 92692\, United States
CATEGORIES:Election,Event
END:VEVENT
BEGIN:VEVENT
DTSTART;TZID=America/Los_Angeles:20180605T070000
DTEND;TZID=America/Los_Angeles:20180605T200000
DTSTAMP:20260424T054741
CREATED:20171229T072635Z
LAST-MODIFIED:20200814T215303Z
UID:1297-1528182000-1528228800@canyondems.org
SUMMARY:Statewide Direct Primary Election
DESCRIPTION:Primary elections will be held statewide on June 5th\, 2018.  To find out more about registration deadlines and election information\, please visit the California Secretary of State’s website.  Have questions about voting or how to find your polling place?  Visit our Voting FAQ for all the answers for local voters!
URL:https://canyondems.org/event/statewide-direct-primary-election/
CATEGORIES:Election
END:VEVENT
BEGIN:VEVENT
DTSTART;VALUE=DATE:20180102
DTEND;VALUE=DATE:20180103
DTSTAMP:20260424T054741
CREATED:20171229T073148Z
LAST-MODIFIED:20200814T215341Z
UID:1299-1514851200-1514937599@canyondems.org
SUMMARY:Lake Forest Special Recall Election
DESCRIPTION:Don’t forget to vote in the Lake Forest Special Recall Election.  We’re supporting Democrat David Glick!  To find out more about David\, visit his website.  To find out more about the election and how to participate\, find your polling place and other questions\, visit the Orange County registrars website specifically devoted to the special recall election here.
URL:https://canyondems.org/event/lake-forest-special-recall-election/
CATEGORIES:Election
END:VEVENT
END:VCALENDAR