BEGIN:VCALENDAR
VERSION:2.0
PRODID:-//Canyon Democrats - ECPv6.15.3//NONSGML v1.0//EN
CALSCALE:GREGORIAN
METHOD:PUBLISH
X-ORIGINAL-URL:https://canyondems.org
X-WR-CALDESC:Events for Canyon Democrats
REFRESH-INTERVAL;VALUE=DURATION:PT1H
X-Robots-Tag:noindex
X-PUBLISHED-TTL:PT1H
BEGIN:VTIMEZONE
TZID:America/Los_Angeles
BEGIN:DAYLIGHT
TZOFFSETFROM:-0800
TZOFFSETTO:-0700
TZNAME:PDT
DTSTART:20250309T100000
END:DAYLIGHT
BEGIN:STANDARD
TZOFFSETFROM:-0700
TZOFFSETTO:-0800
TZNAME:PST
DTSTART:20251102T090000
END:STANDARD
END:VTIMEZONE
BEGIN:VEVENT
DTSTART;TZID=America/Los_Angeles:20250629T140000
DTEND;TZID=America/Los_Angeles:20250629T153000
DTSTAMP:20260424T072948
CREATED:20250320T232122Z
LAST-MODIFIED:20250526T200556Z
UID:7443-1751205600-1751211000@canyondems.org
SUMMARY:Ice Cream Social Fundraiser
DESCRIPTION:Buy Tickets\nJune 29th\, 2025 \n2 – 3:30 PM \nNorman Murray Center\, Mission Viejo \nJoin us for our annual Ice Cream Social fundraiser!! Help us raise money while enjoying delicious ice cream. \nThis is a definitely a kid-friendly event for all ages! Bring the whole family and celebrate with us! \nBuy Tickets\n  \nQuestions? Email info@canyondems.org \nThis event is open to Canyon Dems\, their guests and registered Democrats only.
URL:https://canyondems.org/event/ice-cream-social-fundraiser-2025/
LOCATION:Norman P. Murray Community & Senior Center\, 24932 Veterans Way\, Mission Viejo\, CA\, 92692\, United States
CATEGORIES:Event
ORGANIZER;CN="Canyon Democrats":MAILTO:info@canyondems.org
END:VEVENT
END:VCALENDAR