BEGIN:VCALENDAR
VERSION:2.0
PRODID:-//Canyon Democrats - ECPv6.15.3//NONSGML v1.0//EN
CALSCALE:GREGORIAN
METHOD:PUBLISH
X-ORIGINAL-URL:https://canyondems.org
X-WR-CALDESC:Events for Canyon Democrats
REFRESH-INTERVAL;VALUE=DURATION:PT1H
X-Robots-Tag:noindex
X-PUBLISHED-TTL:PT1H
BEGIN:VTIMEZONE
TZID:America/Los_Angeles
BEGIN:DAYLIGHT
TZOFFSETFROM:-0800
TZOFFSETTO:-0700
TZNAME:PDT
DTSTART:20250309T100000
END:DAYLIGHT
BEGIN:STANDARD
TZOFFSETFROM:-0700
TZOFFSETTO:-0800
TZNAME:PST
DTSTART:20251102T090000
END:STANDARD
END:VTIMEZONE
BEGIN:VEVENT
DTSTART;TZID=America/Los_Angeles:20250920T090000
DTEND;TZID=America/Los_Angeles:20250920T120000
DTSTAMP:20260424T023956
CREATED:20250903T200508Z
LAST-MODIFIED:20250903T200548Z
UID:7687-1758358800-1758369600@canyondems.org
SUMMARY:Canvass in Mission Viejo to Pass Prop 50
DESCRIPTION:Saturday\, Sept 20th \n9am – noon \nLa Paz & Marguerite Pkwy\, Mission Viejo \nWhile billionaires spend bazillions against Prop 50\, we are going to talk to voters. CA is not going to let Trump rig the 2026 midterms in red states. We’re fighting back to save Democracy.\nJoin us!\n\nRSVP HERE\n 
URL:https://canyondems.org/event/prop-50-canvass-mv/
LOCATION:CA
CATEGORIES:Event
ORGANIZER;CN="Canyon Democrats":MAILTO:info@canyondems.org
END:VEVENT
BEGIN:VEVENT
DTSTART;TZID=America/Los_Angeles:20250927T090000
DTEND;TZID=America/Los_Angeles:20250927T120000
DTSTAMP:20260424T023956
CREATED:20250903T200618Z
LAST-MODIFIED:20250903T200829Z
UID:7692-1758963600-1758974400@canyondems.org
SUMMARY:Canvass in Lake Forest & Laguna Hills to Pass Prop 50
DESCRIPTION:Saturday\, Sept 27th \n9am – noon \nRimgate Park\, Lake Forest \nWhile billionaires spend bazillions against Prop 50\, we are going to talk to voters. CA is not going to let Trump rig the 2026 midterms in red states. We’re fighting back to save Democracy.\nJoin us!\nWe’ll meet & Rimgate and send canvassers to Lake Forest & Laguna Hills\n\nRSVP HERE\n 
URL:https://canyondems.org/event/prop-50-canvass-lf-lh/
LOCATION:CA
CATEGORIES:Event
ORGANIZER;CN="Canyon Democrats":MAILTO:info@canyondems.org
END:VEVENT
END:VCALENDAR