BEGIN:VCALENDAR
VERSION:2.0
PRODID:-//Canyon Democrats - ECPv6.15.3//NONSGML v1.0//EN
CALSCALE:GREGORIAN
METHOD:PUBLISH
X-ORIGINAL-URL:https://canyondems.org
X-WR-CALDESC:Events for Canyon Democrats
REFRESH-INTERVAL;VALUE=DURATION:PT1H
X-Robots-Tag:noindex
X-PUBLISHED-TTL:PT1H
BEGIN:VTIMEZONE
TZID:America/Los_Angeles
BEGIN:DAYLIGHT
TZOFFSETFROM:-0800
TZOFFSETTO:-0700
TZNAME:PDT
DTSTART:20250309T100000
END:DAYLIGHT
BEGIN:STANDARD
TZOFFSETFROM:-0700
TZOFFSETTO:-0800
TZNAME:PST
DTSTART:20251102T090000
END:STANDARD
END:VTIMEZONE
BEGIN:VEVENT
DTSTART;TZID=America/Los_Angeles:20251011T090000
DTEND;TZID=America/Los_Angeles:20251011T120000
DTSTAMP:20260424T024216
CREATED:20250903T201004Z
LAST-MODIFIED:20250903T201004Z
UID:7698-1760173200-1760184000@canyondems.org
SUMMARY:Canvass in RSM to Pass Prop 50
DESCRIPTION:Saturday\, Oct 11th \n9am – noon \nRancho Santa Margarita\, Library \nWhile billionaires spend bazillions against Prop 50\, we are going to talk to voters. CA is not going to let Trump rig the 2026 midterms in red states. We’re fighting back to save Democracy.\nJoin us!\n\nRSVP HERE\n 
URL:https://canyondems.org/event/canvass-in-rsm-to-pass-prop-50/
LOCATION:CA
CATEGORIES:Event
ORGANIZER;CN="Canyon Democrats":MAILTO:info@canyondems.org
END:VEVENT
END:VCALENDAR