BEGIN:VCALENDAR
VERSION:2.0
PRODID:-//Canyon Democrats - ECPv6.15.3//NONSGML v1.0//EN
CALSCALE:GREGORIAN
METHOD:PUBLISH
X-ORIGINAL-URL:https://canyondems.org
X-WR-CALDESC:Events for Canyon Democrats
REFRESH-INTERVAL;VALUE=DURATION:PT1H
X-Robots-Tag:noindex
X-PUBLISHED-TTL:PT1H
BEGIN:VTIMEZONE
TZID:America/Los_Angeles
BEGIN:DAYLIGHT
TZOFFSETFROM:-0800
TZOFFSETTO:-0700
TZNAME:PDT
DTSTART:20180311T100000
END:DAYLIGHT
BEGIN:STANDARD
TZOFFSETFROM:-0700
TZOFFSETTO:-0800
TZNAME:PST
DTSTART:20181104T090000
END:STANDARD
BEGIN:DAYLIGHT
TZOFFSETFROM:-0800
TZOFFSETTO:-0700
TZNAME:PDT
DTSTART:20190310T100000
END:DAYLIGHT
BEGIN:STANDARD
TZOFFSETFROM:-0700
TZOFFSETTO:-0800
TZNAME:PST
DTSTART:20191103T090000
END:STANDARD
BEGIN:DAYLIGHT
TZOFFSETFROM:-0800
TZOFFSETTO:-0700
TZNAME:PDT
DTSTART:20200308T100000
END:DAYLIGHT
BEGIN:STANDARD
TZOFFSETFROM:-0700
TZOFFSETTO:-0800
TZNAME:PST
DTSTART:20201101T090000
END:STANDARD
END:VTIMEZONE
BEGIN:VTIMEZONE
TZID:UTC
BEGIN:STANDARD
TZOFFSETFROM:+0000
TZOFFSETTO:+0000
TZNAME:UTC
DTSTART:20170101T000000
END:STANDARD
END:VTIMEZONE
BEGIN:VEVENT
DTSTART;TZID=America/Los_Angeles:20201213T180000
DTEND;TZID=America/Los_Angeles:20201213T193000
DTSTAMP:20260424T060526
CREATED:20201118T184032Z
LAST-MODIFIED:20201212T185728Z
UID:5458-1607882400-1607887800@canyondems.org
SUMMARY:2020 Holiday Victory Lap Drive-Thru
DESCRIPTION:Thanks to everyone who donated! We can’t wait to see you at the Victory Lap!\nJoin the Canyon Democrats for a festive\, celebratory drive-thru event featuring:\n\nOur Pandemic Wine Wall: $20 for a surprise bottle of wine\nSafe Distance Santa: $20 visit with Santa\, take pics!\nDIY Holiday Light Tour: $20 includes addresses and map of area light displays plus refreshments for 2 to go. ($5 for each additional person)\n\nDonate for one\, two or all three!! Location details will be provided upon receipt of donation.
URL:https://canyondems.org/event/2020-holiday-victory-lap-drive-thru/
CATEGORIES:Event,Holiday
END:VEVENT
BEGIN:VEVENT
DTSTART;TZID=America/Los_Angeles:20180421T080000
DTEND;TZID=America/Los_Angeles:20180421T120000
DTSTAMP:20260424T060526
CREATED:20180323T011105Z
LAST-MODIFIED:20200815T000846Z
UID:1640-1524297600-1524312000@canyondems.org
SUMMARY:Earth Day/Arbor Day Celebration - Cordova Park\, Mission Viejo
DESCRIPTION:Please join us on April 21st for Earth Day 2018 as we roll up our sleeves and work hard to make our community greener.  We’ll be pitching in at the City of Mission Viejo’s event at Cordova Park to plant new landscaping and help beautify our community. The city will also be serving up free hot dogs and ice cream! So grab your shovel and your green thumb and spend the day with us as we celebrate this beautiful and crazy\, spinning mass we all call home. \nWhen: Saturday\, April 21st\nWhere: Cordova Park\, 26931 El Retiro\, Mission Viejo\, CA 92692 \nDetails: You’ll need print and bring a volunteer form with you. Get the form here.  Volunteers should wear hats\, gloves\, boots\, and sunscreen and bring a shovel for planting. We’re planning to wear our Canyon Dems t-shirts\, too! To visit the Mission Viejo event page\, click here. \nRSVP to let us know you plan on coming!
URL:https://canyondems.org/event/earthday/
LOCATION:Cordova Park\, 26931 El Retiro\, Mission Viejo\, 92692\, United States
CATEGORIES:Action,Holiday
END:VEVENT
BEGIN:VEVENT
DTSTART;VALUE=DATE:20171031
DTEND;VALUE=DATE:20171101
DTSTAMP:20260424T060526
CREATED:20170607T031320Z
LAST-MODIFIED:20170717T212126Z
UID:239-1509408000-1509494399@canyondems.org
SUMMARY:Halloween
DESCRIPTION:
URL:https://canyondems.org/event/halloween/
CATEGORIES:Holiday
END:VEVENT
BEGIN:VEVENT
DTSTART;VALUE=DATE:20171009
DTEND;VALUE=DATE:20171010
DTSTAMP:20260424T060526
CREATED:20170607T031241Z
LAST-MODIFIED:20170717T212213Z
UID:237-1507507200-1507593599@canyondems.org
SUMMARY:Columbus Day
DESCRIPTION:
URL:https://canyondems.org/event/columbus-day/
CATEGORIES:Holiday
END:VEVENT
BEGIN:VEVENT
DTSTART;VALUE=DATE:20170920
DTEND;VALUE=DATE:20170921
DTSTAMP:20260424T060526
CREATED:20170607T031155Z
LAST-MODIFIED:20170717T212219Z
UID:235-1505865600-1505951999@canyondems.org
SUMMARY:Rosh Hashana (First night)
DESCRIPTION:
URL:https://canyondems.org/event/rosh-hashana-first-night/
CATEGORIES:Holiday
END:VEVENT
BEGIN:VEVENT
DTSTART;VALUE=DATE:20170904
DTEND;VALUE=DATE:20170905
DTSTAMP:20260424T060526
CREATED:20170607T031007Z
LAST-MODIFIED:20170717T212228Z
UID:233-1504483200-1504569599@canyondems.org
SUMMARY:Labor Day
DESCRIPTION:
URL:https://canyondems.org/event/labor-day/
CATEGORIES:Holiday
END:VEVENT
BEGIN:VEVENT
DTSTART;VALUE=DATE:20170704
DTEND;VALUE=DATE:20170705
DTSTAMP:20260424T060526
CREATED:20170607T030922Z
LAST-MODIFIED:20170717T212233Z
UID:231-1499126400-1499212799@canyondems.org
SUMMARY:Independence Day
DESCRIPTION:
URL:https://canyondems.org/event/independence-day/
CATEGORIES:Holiday
END:VEVENT
END:VCALENDAR