BEGIN:VCALENDAR
VERSION:2.0
PRODID:-//Canyon Democrats - ECPv6.15.3//NONSGML v1.0//EN
CALSCALE:GREGORIAN
METHOD:PUBLISH
X-WR-CALNAME:Canyon Democrats
X-ORIGINAL-URL:https://canyondems.org
X-WR-CALDESC:Events for Canyon Democrats
REFRESH-INTERVAL;VALUE=DURATION:PT1H
X-Robots-Tag:noindex
X-PUBLISHED-TTL:PT1H
BEGIN:VTIMEZONE
TZID:America/Los_Angeles
BEGIN:DAYLIGHT
TZOFFSETFROM:-0800
TZOFFSETTO:-0700
TZNAME:PDT
DTSTART:20170312T100000
END:DAYLIGHT
BEGIN:STANDARD
TZOFFSETFROM:-0700
TZOFFSETTO:-0800
TZNAME:PST
DTSTART:20171105T090000
END:STANDARD
BEGIN:DAYLIGHT
TZOFFSETFROM:-0800
TZOFFSETTO:-0700
TZNAME:PDT
DTSTART:20180311T100000
END:DAYLIGHT
BEGIN:STANDARD
TZOFFSETFROM:-0700
TZOFFSETTO:-0800
TZNAME:PST
DTSTART:20181104T090000
END:STANDARD
END:VTIMEZONE
BEGIN:VTIMEZONE
TZID:UTC
BEGIN:STANDARD
TZOFFSETFROM:+0000
TZOFFSETTO:+0000
TZNAME:UTC
DTSTART:20170101T000000
END:STANDARD
END:VTIMEZONE
BEGIN:VEVENT
DTSTART;TZID=America/Los_Angeles:20180203T090000
DTEND;TZID=America/Los_Angeles:20180203T100000
DTSTAMP:20260424T134801
CREATED:20180105T041041Z
LAST-MODIFIED:20200814T213503Z
UID:1311-1517648400-1517652000@canyondems.org
SUMMARY:FLIP THE HOUSE Pancake Breakfast
DESCRIPTION:We’ve got pancakes and we are HUNGRY to Flip the House blue this November.  If you’re as hungry as we are\, grab a friend and RSVP for our FREE pancake breakfast.  We’ll be carbing up and loading you and your buddies with all the info you’ll need to feel comfortable getting out the word by yourself\, with friends\, on your own street or in a group voting registration booth.  The choices are endless!  We will be having pancakes and sausage and a short explanation on how to register voters without stressing out.  If you’ve been looking for a time to get more involved\, let us make it easy over fresh\, hot pancakes!  Pancakes will be served from 9:00 am – 10:00 am so be sure to come early!
URL:https://canyondems.org/event/pancake-breakfast/
LOCATION:Home of a Mission Viejo Member\, Mission Viejo\, CA\, United States
CATEGORIES:Action,Event,Voter Registration Activities
END:VEVENT
BEGIN:VEVENT
DTSTART;TZID=America/Los_Angeles:20180123T190000
DTEND;TZID=America/Los_Angeles:20180123T210000
DTSTAMP:20260424T134801
CREATED:20171119T053452Z
LAST-MODIFIED:20200814T213732Z
UID:1084-1516734000-1516741200@canyondems.org
SUMMARY:Training for Neighborhood Outreach and Voter Registration
DESCRIPTION:Come and learn how to visit neighbors who are Democrats and No Party Preference folks as well as learn how to conduct voter registration.
URL:https://canyondems.org/event/training-neighborhood-outreach-voter-registration/
LOCATION:Home of a Mission Viejo Member\, Mission Viejo\, CA\, United States
CATEGORIES:Voter Registration Activities
END:VEVENT
BEGIN:VEVENT
DTSTART;TZID=America/Los_Angeles:20171209T100000
DTEND;TZID=America/Los_Angeles:20171209T200000
DTSTAMP:20260424T134801
CREATED:20171103T210143Z
LAST-MODIFIED:20200814T235823Z
UID:1031-1512813600-1512849600@canyondems.org
SUMMARY:Voter Registration at Mission Viejo Mall
DESCRIPTION:The Field Team will be conducting Voter Registration at the Mission Viejo Mall on December 9th. \nIf you’re in the area\, come by and say hi–or better yet\, bring a friend that needs to get registered!  We’ll be located on the Lower Level in the Center Court. Our expertly-trained registration volunteers will be on hand to answer any questions\, help change registrations to vote-by-mail (if your not already) and answer any questions about how to vote. \nIf you’re interested in volunteering at the booth\, head on over to our Volunteer section and see if any shifts are still available.  Enjoy holiday decorations and shop before or after your shift!
URL:https://canyondems.org/event/voter-registration-drive-mission-viejo-mall/
LOCATION:Mission Viejo Mall\, 555 The Shops at Mission Viejo\, Mission Viejo\, CA\, 92691\, United States
CATEGORIES:Voter Registration Activities
END:VEVENT
BEGIN:VEVENT
DTSTART;TZID=America/Los_Angeles:20170902T130000
DTEND;TZID=America/Los_Angeles:20170902T150000
DTSTAMP:20260424T134801
CREATED:20170823T222528Z
LAST-MODIFIED:20200815T005827Z
UID:830-1504357200-1504364400@canyondems.org
SUMMARY:GroDPOC - Intro to Canvassing & Voter Outreach
DESCRIPTION:Check out this training hosted by the DPOC as part of their new initiative to grow the Democratic voter base in Orange County!  You can find out more details and register for the training on their Facebook page here: https://www.facebook.com/events/262950750863045\nStudies show that canvassing is the the most effective way to win elections. Join us to flip Orange County blue! \nThis is an introduction to canvassing/voter outreach with the Grassroots Organizing Program of the Democratic Party of Orange County (GRO*DPOC). \nYou will learn how to listen actively to the concerns of voters\, and help them identify Democratic party and other progressive activities in which they may be interested. \nNo previous experience required – just an interest in finding out more about how we are going to turn Orange County blue! \nLed by Linda May with Joe McLaughlin.
URL:https://canyondems.org/event/grodpoc-intro-canvassing-voter-outreach/
LOCATION:Democratic Party of Orange County\, 1916 W Chapman Ave\, Ste B\, Orange\, CA\, 92868\, United States
CATEGORIES:Action,Voter Registration Activities
ORGANIZER;CN="DPOC":MAILTO:info@ocdemocrats.org
END:VEVENT
BEGIN:VEVENT
DTSTART;TZID=UTC:20170624T110000
DTEND;TZID=UTC:20170624T230000
DTSTAMP:20260424T134801
CREATED:20170607T033152Z
LAST-MODIFIED:20170607T033152Z
UID:247-1498302000-1498345200@canyondems.org
SUMMARY:Voter Registration @ Orange County LGBT Pride Festival
DESCRIPTION:
URL:https://canyondems.org/event/voter-registration-orange-county-lgbt-pride-festival/
LOCATION:Downtown Santa Ana\, Civic Center & N Flower Street\, Santa Ana\, CA
CATEGORIES:Voter Registration Activities
END:VEVENT
END:VCALENDAR