BEGIN:VCALENDAR
VERSION:2.0
PRODID:-//Canyon Democrats - ECPv6.15.3//NONSGML v1.0//EN
CALSCALE:GREGORIAN
METHOD:PUBLISH
X-WR-CALNAME:Canyon Democrats
X-ORIGINAL-URL:https://canyondems.org
X-WR-CALDESC:Events for Canyon Democrats
REFRESH-INTERVAL;VALUE=DURATION:PT1H
X-Robots-Tag:noindex
X-PUBLISHED-TTL:PT1H
BEGIN:VTIMEZONE
TZID:America/Los_Angeles
BEGIN:DAYLIGHT
TZOFFSETFROM:-0800
TZOFFSETTO:-0700
TZNAME:PDT
DTSTART:20260308T100000
END:DAYLIGHT
BEGIN:STANDARD
TZOFFSETFROM:-0700
TZOFFSETTO:-0800
TZNAME:PST
DTSTART:20261101T090000
END:STANDARD
END:VTIMEZONE
BEGIN:VEVENT
DTSTART;TZID=America/Los_Angeles:20260217T190000
DTEND;TZID=America/Los_Angeles:20260217T203000
DTSTAMP:20260423T152837
CREATED:20260128T031652Z
LAST-MODIFIED:20260128T032426Z
UID:7804-1771354800-1771360200@canyondems.org
SUMMARY:General Meeting: Jeremy Cohen Braver Angels
DESCRIPTION:Courageous Citizenship\nJeremy Cohen\, PhD    \n\n\n\n    \n        \n                        \n        \n                        \n                        \n                        \n                    \n\n        \n                \n        \n    \n    \n        \n        \n                    \n                    \n\n        \n        Dr. Mike Moodian & Dr. Fred Smoller\nDr. Mike Moodian has served as a faculty member at Chapman University since 2007 and teached for the leadership studies program.  \nDr. Fred Smoller is an Associate Professor of Political Science at Chapman University where he has been a member of the faculty since 1983.     \n\n        \n                        \n        \n                        \n                        \n                        \n                    \n\n        \n                \n        \n    \n    \n        \n        \n                    \n                    \n\n        \n        Michael Sall\nMichael is the DPOC Director of Democratic Clubs and an attorney at Sall Spencer Callas & Krueger in Laguna Beach\, California\, with a practice in legal ethics and business litigation. He is also a member of the Aliso Niguel Democratic Club and their former Chair.        \n\n        \n                        \n        \n                        \n                        \n                        \n                    \n\n        \n                \n        \n    \n    \n        \n\n\n        \n        NOVEMBER COMMUNITY OUTREACH\nThis month our community partner is Toys for Tots. \nPlease bring one or more NEW and UNWRAPPED gifts or Gift Cards from Walmart or Target ($25) to our meeting. \nRequested items are gifts for “forgotten ages”: \n – Toddlers from 6 months – 3 years \n – Teenagers – ear pods\, games\, sports equipment\, skateboards\, craft or jewelry kits \nOur Community Outreach Liaison\, Ann Owens\, is also collecting new bicycles. If you would like to donate a bike\, please contact her at outreach@canyondems.org to arrange a time to drop it at her house in Lake Forest. \nThanks for your support of our community!
URL:https://canyondems.org/event/general-meeting-braver-angels/
LOCATION:Norman P. Murray Community & Senior Center\, 24932 Veterans Way\, Mission Viejo\, CA\, 92692\, United States
CATEGORIES:Monthly General Meeting
ATTACH;FMTTYPE=image/png:https://canyondems.org/wp-content/uploads/2026/01/Feb-26-Meeting-Facebook-Post.png
ORGANIZER;CN="Canyon Democrats":MAILTO:info@canyondems.org
END:VEVENT
BEGIN:VEVENT
DTSTART;TZID=America/Los_Angeles:20260317T190000
DTEND;TZID=America/Los_Angeles:20260317T203000
DTSTAMP:20260423T152837
CREATED:20260305T033340Z
LAST-MODIFIED:20260305T033512Z
UID:7885-1773774000-1773779400@canyondems.org
SUMMARY:General Meeting: Gustavo Arellano
DESCRIPTION:Courageous Citizenship\nJeremy Cohen\, PhD    \n\n\n\n    \n        \n                        \n        \n                        \n                        \n                        \n                    \n\n        \n                \n        \n    \n    \n        \n        \n                    \n                    \n\n        \n        Dr. Mike Moodian & Dr. Fred Smoller\nDr. Mike Moodian has served as a faculty member at Chapman University since 2007 and teached for the leadership studies program.  \nDr. Fred Smoller is an Associate Professor of Political Science at Chapman University where he has been a member of the faculty since 1983.     \n\n        \n                        \n        \n                        \n                        \n                        \n                    \n\n        \n                \n        \n    \n    \n        \n        \n                    \n                    \n\n        \n        Michael Sall\nMichael is the DPOC Director of Democratic Clubs and an attorney at Sall Spencer Callas & Krueger in Laguna Beach\, California\, with a practice in legal ethics and business litigation. He is also a member of the Aliso Niguel Democratic Club and their former Chair.        \n\n        \n                        \n        \n                        \n                        \n                        \n                    \n\n        \n                \n        \n    \n    \n        \n\n\n        \n        NOVEMBER COMMUNITY OUTREACH\nThis month our community partner is Toys for Tots. \nPlease bring one or more NEW and UNWRAPPED gifts or Gift Cards from Walmart or Target ($25) to our meeting. \nRequested items are gifts for “forgotten ages”: \n – Toddlers from 6 months – 3 years \n – Teenagers – ear pods\, games\, sports equipment\, skateboards\, craft or jewelry kits \nOur Community Outreach Liaison\, Ann Owens\, is also collecting new bicycles. If you would like to donate a bike\, please contact her at outreach@canyondems.org to arrange a time to drop it at her house in Lake Forest. \nThanks for your support of our community!
URL:https://canyondems.org/event/general-meeting-gustavo-arellano/
LOCATION:Norman P. Murray Community & Senior Center\, 24932 Veterans Way\, Mission Viejo\, CA\, 92692\, United States
CATEGORIES:Monthly General Meeting
ATTACH;FMTTYPE=image/png:https://canyondems.org/wp-content/uploads/2026/03/March-Meeting-Facebook-Post-Instagram-Post.png
ORGANIZER;CN="Canyon Democrats":MAILTO:info@canyondems.org
END:VEVENT
BEGIN:VEVENT
DTSTART;TZID=America/Los_Angeles:20260421T190000
DTEND;TZID=America/Los_Angeles:20260421T203000
DTSTAMP:20260423T152837
CREATED:20260404T004648Z
LAST-MODIFIED:20260404T174144Z
UID:7898-1776798000-1776803400@canyondems.org
SUMMARY:General Meeting: Candidates
DESCRIPTION:Courageous Citizenship\nJeremy Cohen\, PhD    \n\n\n\n    \n        \n                        \n        \n                        \n                        \n                        \n                    \n\n        \n                \n        \n    \n    \n        \n        \n                    \n                    \n\n        \n        Dr. Mike Moodian & Dr. Fred Smoller\nDr. Mike Moodian has served as a faculty member at Chapman University since 2007 and teached for the leadership studies program.  \nDr. Fred Smoller is an Associate Professor of Political Science at Chapman University where he has been a member of the faculty since 1983.     \n\n        \n                        \n        \n                        \n                        \n                        \n                    \n\n        \n                \n        \n    \n    \n        \n        \n                    \n                    \n\n        \n        Michael Sall\nMichael is the DPOC Director of Democratic Clubs and an attorney at Sall Spencer Callas & Krueger in Laguna Beach\, California\, with a practice in legal ethics and business litigation. He is also a member of the Aliso Niguel Democratic Club and their former Chair.        \n\n        \n                        \n        \n                        \n                        \n                        \n                    \n\n        \n                \n        \n    \n    \n        \n\n\n        \n        NOVEMBER COMMUNITY OUTREACH\nThis month our community partner is Toys for Tots. \nPlease bring one or more NEW and UNWRAPPED gifts or Gift Cards from Walmart or Target ($25) to our meeting. \nRequested items are gifts for “forgotten ages”: \n – Toddlers from 6 months – 3 years \n – Teenagers – ear pods\, games\, sports equipment\, skateboards\, craft or jewelry kits \nOur Community Outreach Liaison\, Ann Owens\, is also collecting new bicycles. If you would like to donate a bike\, please contact her at outreach@canyondems.org to arrange a time to drop it at her house in Lake Forest. \nThanks for your support of our community!
URL:https://canyondems.org/event/general-meeting-candidates/
LOCATION:Norman P. Murray Community & Senior Center\, 24932 Veterans Way\, Mission Viejo\, CA\, 92692\, United States
CATEGORIES:Monthly General Meeting
ATTACH;FMTTYPE=image/png:https://canyondems.org/wp-content/uploads/2026/04/April-2026-Meeting-Facebook-Post-1.png
ORGANIZER;CN="Canyon Democrats":MAILTO:info@canyondems.org
END:VEVENT
END:VCALENDAR