BEGIN:VCALENDAR
VERSION:2.0
PRODID:-//Canyon Democrats - ECPv6.15.3//NONSGML v1.0//EN
CALSCALE:GREGORIAN
METHOD:PUBLISH
X-ORIGINAL-URL:https://canyondems.org
X-WR-CALDESC:Events for Canyon Democrats
REFRESH-INTERVAL;VALUE=DURATION:PT1H
X-Robots-Tag:noindex
X-PUBLISHED-TTL:PT1H
BEGIN:VTIMEZONE
TZID:America/Los_Angeles
BEGIN:DAYLIGHT
TZOFFSETFROM:-0800
TZOFFSETTO:-0700
TZNAME:PDT
DTSTART:20230312T100000
END:DAYLIGHT
BEGIN:STANDARD
TZOFFSETFROM:-0700
TZOFFSETTO:-0800
TZNAME:PST
DTSTART:20231105T090000
END:STANDARD
BEGIN:DAYLIGHT
TZOFFSETFROM:-0800
TZOFFSETTO:-0700
TZNAME:PDT
DTSTART:20240310T100000
END:DAYLIGHT
BEGIN:STANDARD
TZOFFSETFROM:-0700
TZOFFSETTO:-0800
TZNAME:PST
DTSTART:20241103T090000
END:STANDARD
BEGIN:DAYLIGHT
TZOFFSETFROM:-0800
TZOFFSETTO:-0700
TZNAME:PDT
DTSTART:20250309T100000
END:DAYLIGHT
BEGIN:STANDARD
TZOFFSETFROM:-0700
TZOFFSETTO:-0800
TZNAME:PST
DTSTART:20251102T090000
END:STANDARD
END:VTIMEZONE
BEGIN:VEVENT
DTSTART;TZID=America/Los_Angeles:20250218T183000
DTEND;TZID=America/Los_Angeles:20250218T183000
DTSTAMP:20260423T132536
CREATED:20250210T034740Z
LAST-MODIFIED:20250210T035254Z
UID:7331-1739903400-1739903400@canyondems.org
SUMMARY:General Meeting: Public Funds for Public Schools
DESCRIPTION:
URL:https://canyondems.org/event/general-meeting-public-funds-for-public-schools/
LOCATION:Norman P. Murray Community & Senior Center\, 24932 Veterans Way\, Mission Viejo\, CA\, 92692\, United States
CATEGORIES:Monthly General Meeting
ATTACH;FMTTYPE=image/png:https://canyondems.org/wp-content/uploads/2025/02/Feb-2025-Meeting-Notice.png
ORGANIZER;CN="Canyon Democrats":MAILTO:info@canyondems.org
END:VEVENT
BEGIN:VEVENT
DTSTART;TZID=America/Los_Angeles:20250121T183000
DTEND;TZID=America/Los_Angeles:20250121T203000
DTSTAMP:20260423T132536
CREATED:20250115T184118Z
LAST-MODIFIED:20250119T180147Z
UID:7301-1737484200-1737491400@canyondems.org
SUMMARY:General Meeting: Local Water Supply
DESCRIPTION:
URL:https://canyondems.org/event/local-water-supply/
LOCATION:Norman P. Murray Community & Senior Center\, 24932 Veterans Way\, Mission Viejo\, CA\, 92692\, United States
CATEGORIES:Monthly General Meeting
ATTACH;FMTTYPE=image/png:https://canyondems.org/wp-content/uploads/2025/01/Jan-2025-Meeting-Notice.png
ORGANIZER;CN="Canyon Democrats":MAILTO:info@canyondems.org
END:VEVENT
BEGIN:VEVENT
DTSTART;TZID=America/Los_Angeles:20241207T110000
DTEND;TZID=America/Los_Angeles:20241207T130000
DTSTAMP:20260423T132536
CREATED:20241022T232134Z
LAST-MODIFIED:20241106T060052Z
UID:7257-1733569200-1733576400@canyondems.org
SUMMARY:2024 O'Neill Holiday Brunch
DESCRIPTION:  \nBUY TICKETS NOW\nCelebrate with us at this festive event as we build excitement for the 2024 elections. Enjoy a delicious brunch at the picturesque Arroyo Trabuco Golf Club. This event always sells out quickly\, so be sure to get your tickets early! \nGuest Speaker: State Senator Catherine Blakespear \nSaturday\, December 7\, 2024 \n11:00 a.m. – 1:00 p.m. \nArroyo Trabuco Country Club \n26772 Avery Parkway Mission Viejo \n____ \nQuestions? Email info@canyondems.org \n  \nBUY TICKETS NOW\n 
URL:https://canyondems.org/event/2024-oneill-holiday-brunch/
LOCATION:Arroyo Trabuco Golf Club\, 26772 Avery Parkway\, Mission Viejo\, CA\, 92692\, United States
CATEGORIES:Event
ATTACH;FMTTYPE=image/png:https://canyondems.org/wp-content/uploads/2024/10/Holiday-Brunch-2024-Tickets-Facebook-Post.png
END:VEVENT
BEGIN:VEVENT
DTSTART;TZID=America/Los_Angeles:20241119T183000
DTEND;TZID=America/Los_Angeles:20241119T203000
DTSTAMP:20260423T132536
CREATED:20241022T225418Z
LAST-MODIFIED:20250119T175812Z
UID:7241-1732041000-1732048200@canyondems.org
SUMMARY:General Meeting: Review of 2024 Election
DESCRIPTION:
URL:https://canyondems.org/event/general-meeting-review-of-2024-election/
LOCATION:Norman P. Murray Community & Senior Center\, 24932 Veterans Way\, Mission Viejo\, CA\, 92692\, United States
CATEGORIES:Monthly General Meeting
ATTACH;FMTTYPE=image/png:https://canyondems.org/wp-content/uploads/2024/10/Nov-2024-Meeting-Notice-1.png
ORGANIZER;CN="Canyon Democrats":MAILTO:info@canyondems.org
END:VEVENT
BEGIN:VEVENT
DTSTART;TZID=America/Los_Angeles:20241015T183000
DTEND;TZID=America/Los_Angeles:20241015T203000
DTSTAMP:20260423T132536
CREATED:20240930T214145Z
LAST-MODIFIED:20240930T221440Z
UID:7221-1729017000-1729024200@canyondems.org
SUMMARY:General Meeting: Fighting School Board Extremism
DESCRIPTION:
URL:https://canyondems.org/event/general-school-board-extremism/
LOCATION:Norman P. Murray Community & Senior Center\, 24932 Veterans Way\, Mission Viejo\, CA\, 92692\, United States
CATEGORIES:Monthly General Meeting
ATTACH;FMTTYPE=image/png:https://canyondems.org/wp-content/uploads/2024/09/October-2024-Meeting-Notice.png
ORGANIZER;CN="Canyon Democrats":MAILTO:info@canyondems.org
END:VEVENT
BEGIN:VEVENT
DTSTART;TZID=America/Los_Angeles:20240917T183000
DTEND;TZID=America/Los_Angeles:20240917T203000
DTSTAMP:20260423T132536
CREATED:20240820T170025Z
LAST-MODIFIED:20240902T003700Z
UID:7171-1726597800-1726605000@canyondems.org
SUMMARY:General Meeting: Ballot Review Party Louise
DESCRIPTION:
URL:https://canyondems.org/event/general-meeting-ballot-review/
LOCATION:Norman P. Murray Community & Senior Center\, 24932 Veterans Way\, Mission Viejo\, CA\, 92692\, United States
CATEGORIES:Monthly General Meeting
ATTACH;FMTTYPE=image/png:https://canyondems.org/wp-content/uploads/2024/08/Sept-2024-Meeting-Notice-2.png
ORGANIZER;CN="Canyon Democrats":MAILTO:info@canyondems.org
END:VEVENT
BEGIN:VEVENT
DTSTART;TZID=America/Los_Angeles:20240906T170000
DTEND;TZID=America/Los_Angeles:20240906T170000
DTSTAMP:20260423T132536
CREATED:20240722T040827Z
LAST-MODIFIED:20240902T194710Z
UID:7131-1725642000-1725642000@canyondems.org
SUMMARY:Meet the Blue Crew: Tacos with your Candidates
DESCRIPTION:*** SOLD OUT ***\nJoin us for tacos and talk with the candidates running for elected office on the lovely patio of the Murray Center. \nWe’ll have local\, state & congressional candidates in an intimate setting. \nCome enjoy delicious tacos & beverages and help the Canyon Democrats support our outstanding candidates. \n  \n  \n*** SOLD OUT ***\nQuestions? Email info@canyondems.org \nThis event is open to Canyon Dems\, their guests and registered Democrats only.
URL:https://canyondems.org/event/blue-crew/
LOCATION:Home of a Mission Viejo Member\, Mission Viejo\, CA\, United States
CATEGORIES:Event
ATTACH;FMTTYPE=image/png:https://canyondems.org/wp-content/uploads/2024/07/Meet-the-Blue-Crew-Instagram-Post.png
ORGANIZER;CN="Canyon Democrats":MAILTO:info@canyondems.org
END:VEVENT
BEGIN:VEVENT
DTSTART;TZID=America/Los_Angeles:20240820T183000
DTEND;TZID=America/Los_Angeles:20240820T203000
DTSTAMP:20260423T132536
CREATED:20240716T183846Z
LAST-MODIFIED:20240806T002524Z
UID:7123-1724178600-1724185800@canyondems.org
SUMMARY:General Meeting: Live from the DNC Convention
DESCRIPTION:
URL:https://canyondems.org/event/dnc-convention/
LOCATION:Norman P. Murray Community & Senior Center\, 24932 Veterans Way\, Mission Viejo\, CA\, 92692\, United States
CATEGORIES:Monthly General Meeting
ATTACH;FMTTYPE=image/png:https://canyondems.org/wp-content/uploads/2024/07/August-2024-Meeting-Notice-2-1.png
ORGANIZER;CN="Canyon Democrats":MAILTO:info@canyondems.org
END:VEVENT
BEGIN:VEVENT
DTSTART;TZID=America/Los_Angeles:20240716T183000
DTEND;TZID=America/Los_Angeles:20240716T200000
DTSTAMP:20260423T132536
CREATED:20240618T194852Z
LAST-MODIFIED:20240710T173321Z
UID:7101-1721154600-1721160000@canyondems.org
SUMMARY:General Meeting: State of Abortion Rights
DESCRIPTION:
URL:https://canyondems.org/event/state-of-abortion-rights/
LOCATION:Norman P. Murray Community & Senior Center\, 24932 Veterans Way\, Mission Viejo\, CA\, 92692\, United States
CATEGORIES:Monthly General Meeting
ATTACH;FMTTYPE=image/png:https://canyondems.org/wp-content/uploads/2024/06/July-2024-Meeting-Notice-1.png
ORGANIZER;CN="Canyon Democrats":MAILTO:info@canyondems.org
END:VEVENT
BEGIN:VEVENT
DTSTART;TZID=America/Los_Angeles:20240714T160000
DTEND;TZID=America/Los_Angeles:20240714T190000
DTSTAMP:20260423T132536
CREATED:20240606T035430Z
LAST-MODIFIED:20240606T035430Z
UID:7097-1720972800-1720983600@canyondems.org
SUMMARY:Canyon Dems & Central OC Dems Picnic
DESCRIPTION:RSVP!\n  \nThe Canyon Dems & Central OC Dems are planning a joint picnic at a park in Lake Forest (address provided upon RSVP). \nCome meet new friends and share ideas with folks from a neighboring club in Orange County. \nThis event is free! Sandwiches and soft drinks will be provided. Please bring an appetizer\, side dish or dessert to share. \nAnd don’t forget to bring a chair! \nRSVP!\nQuestions? Email info@canyondems.org \n 
URL:https://canyondems.org/event/canyon-dems-central-oc-dems-picnic/
LOCATION:CA
CATEGORIES:Event
ATTACH;FMTTYPE=image/png:https://canyondems.org/wp-content/uploads/2024/06/Picnic-In-The-Park-Facebook-Post.png
ORGANIZER;CN="Canyon Democrats":MAILTO:info@canyondems.org
END:VEVENT
BEGIN:VEVENT
DTSTART;TZID=America/Los_Angeles:20240704T090000
DTEND;TZID=America/Los_Angeles:20240704T210000
DTSTAMP:20260423T132536
CREATED:20240521T034744Z
LAST-MODIFIED:20240521T034855Z
UID:7083-1720083600-1720126800@canyondems.org
SUMMARY:Mission Viejo July 4th Street Fair
DESCRIPTION:SIGN UP!\n  \nMission Viejo’s annual 4th of July Street Faire is a fantastic place to share the word about our club. The Canyon Democrats will have a booth and we need volunteers to sign up for 2-hour shifts and also to help with setup and take-down. Or just stop by and say ‘hi’! \nSIGN UP!\nQuestions? Email info@canyondems.org \n 
URL:https://canyondems.org/event/mission-viejo-july-4th-street-fair/
LOCATION:Street Faire – Olympiad between Marguerite & Melinda\, Olympiad\, Mission Viejo\, United States
CATEGORIES:Event
ATTACH;FMTTYPE=image/png:https://canyondems.org/wp-content/uploads/2023/05/4th-of-July-Independence-Day-Facebook-Post-.png
ORGANIZER;CN="Canyon Democrats":MAILTO:info@canyondems.org
END:VEVENT
BEGIN:VEVENT
DTSTART;TZID=America/Los_Angeles:20240618T183000
DTEND;TZID=America/Los_Angeles:20240618T200000
DTSTAMP:20260423T132536
CREATED:20240514T223242Z
LAST-MODIFIED:20240515T035440Z
UID:7052-1718735400-1718740800@canyondems.org
SUMMARY:General Meeting: Electoral College
DESCRIPTION:
URL:https://canyondems.org/event/general-meeting-electoral-college/
LOCATION:Norman P. Murray Community & Senior Center\, 24932 Veterans Way\, Mission Viejo\, CA\, 92692\, United States
CATEGORIES:Monthly General Meeting
ATTACH;FMTTYPE=image/png:https://canyondems.org/wp-content/uploads/2024/05/June-2024-Meeting-Notice.png
ORGANIZER;CN="Canyon Democrats":MAILTO:info@canyondems.org
END:VEVENT
BEGIN:VEVENT
DTSTART;TZID=America/Los_Angeles:20240609T153000
DTEND;TZID=America/Los_Angeles:20240609T173000
DTSTAMP:20260423T132536
CREATED:20240410T191602Z
LAST-MODIFIED:20240418T163649Z
UID:6950-1717947000-1717954200@canyondems.org
SUMMARY:Ice Cream Social Fundraiser
DESCRIPTION:Buy Tickets!\nJune 9th\, 2024 \n3:30 – 5:30 PM \nNorman Murray Center\, Mission Viejo \nJoin us for our annual Ice Cream Social fundraiser!! Help us raise money while enjoying delicious ice cream. \nThis is a definitely a kid-friendly event for all ages! Bring the whole family and celebrate with us! \nBuy Tickets!\n  \nQuestions? Email info@canyondems.org \nThis event is open to Canyon Dems\, their guests and registered Democrats only.
URL:https://canyondems.org/event/ice-cream-social-fundraiser-24/
LOCATION:Norman P. Murray Community & Senior Center\, 24932 Veterans Way\, Mission Viejo\, CA\, 92692\, United States
CATEGORIES:Event
ATTACH;FMTTYPE=image/png:https://canyondems.org/wp-content/uploads/2024/04/Ice-Cream-Social-2024.png
ORGANIZER;CN="Canyon Democrats":MAILTO:info@canyondems.org
END:VEVENT
BEGIN:VEVENT
DTSTART;TZID=America/Los_Angeles:20240521T183000
DTEND;TZID=America/Los_Angeles:20240521T200000
DTSTAMP:20260423T132536
CREATED:20240416T220453Z
LAST-MODIFIED:20240515T035512Z
UID:6975-1716316200-1716321600@canyondems.org
SUMMARY:General Meeting: Orange is the New Purple
DESCRIPTION:
URL:https://canyondems.org/event/orange-isthenew-purple/
LOCATION:Norman P. Murray Community & Senior Center\, 24932 Veterans Way\, Mission Viejo\, CA\, 92692\, United States
CATEGORIES:Monthly General Meeting
ATTACH;FMTTYPE=image/png:https://canyondems.org/wp-content/uploads/2024/04/May-2024-Meeting-Notice-2.png
ORGANIZER;CN="Canyon Democrats":MAILTO:info@canyondems.org
END:VEVENT
BEGIN:VEVENT
DTSTART;TZID=America/Los_Angeles:20240518T090000
DTEND;TZID=America/Los_Angeles:20240518T110000
DTSTAMP:20260423T132536
CREATED:20240417T202528Z
LAST-MODIFIED:20240419T013717Z
UID:6999-1716022800-1716030000@canyondems.org
SUMMARY:Pancake Breakfast Wake up OC!
DESCRIPTION:RSVP!\nSaturday\, May 18th\, 2024 \n9 – 11 am \nNorman Murray Center\, Mission Viejo \nWorry Less\, Do More \nLearn how to be an informed\, active & engaged participant in our elections\, up and down the ballot\, with the Canyon Democrats Club. \nDo you wish you had done more before the 2016 election? Here’s your chance to get involved now for the 2024 election. \n\nLearn about easy actions you can take\nTalk with club leaders and members\nGet tips on effective messaging to your friends & family\n\nWhat a great way to start the weekend! \nPlease RSVP by May 12th. \nRSVP!\n  \nQuestions? Email info@canyondems.org \nThis event is open to Canyon Dems\, their guests and registered Democrats only.
URL:https://canyondems.org/event/pancake24/
LOCATION:Norman P. Murray Community & Senior Center\, 24932 Veterans Way\, Mission Viejo\, CA\, 92692\, United States
CATEGORIES:Event
ATTACH;FMTTYPE=image/png:https://canyondems.org/wp-content/uploads/2024/04/Wake-up-Orange-County.png
ORGANIZER;CN="Canyon Democrats":MAILTO:info@canyondems.org
END:VEVENT
BEGIN:VEVENT
DTSTART;TZID=America/Los_Angeles:20240511T100000
DTEND;TZID=America/Los_Angeles:20240511T150000
DTSTAMP:20260423T132536
CREATED:20240418T221529Z
LAST-MODIFIED:20240418T221529Z
UID:7035-1715421600-1715439600@canyondems.org
SUMMARY:Plant & Craft Sale
DESCRIPTION:Saturday\, May 11th\, 2024 \n10 AM – 3 PM \nLook for our Pop Up Tent on Santa Margarita Parkway at Portola Plaza (near McDonalds’s\, across the street from Sprouts). \nStop by and pick up those adorable Mother’s Day cute gifts you won’t find anywhere else. Why? Because they are all made & donated by our fantastic club members. \nThese are wonderful items to brighten your own space or to have on hand as amazing hostess gifts. \nWe have handcrafted birdhouses and easy-to-grow succulents in adorable pots. \nBring cash so that all your money goes to supporting Democrats! \nQuestions? Email info@canyondems.org \n 
URL:https://canyondems.org/event/plants-crafts/
LOCATION:Norman P. Murray Community & Senior Center\, 24932 Veterans Way\, Mission Viejo\, CA\, 92692\, United States
CATEGORIES:Event
ATTACH;FMTTYPE=image/png:https://canyondems.org/wp-content/uploads/2024/04/Plant-Sale-3.png
ORGANIZER;CN="Canyon Democrats":MAILTO:info@canyondems.org
END:VEVENT
BEGIN:VEVENT
DTSTART;TZID=America/Los_Angeles:20240416T183000
DTEND;TZID=America/Los_Angeles:20240416T200000
DTSTAMP:20260423T132536
CREATED:20240322T194037Z
LAST-MODIFIED:20240412T195031Z
UID:6921-1713292200-1713297600@canyondems.org
SUMMARY:General Meeting: Combatting Misinformation
DESCRIPTION:
URL:https://canyondems.org/event/general-meeting-misinformation/
LOCATION:Norman P. Murray Community & Senior Center\, 24932 Veterans Way\, Mission Viejo\, CA\, 92692\, United States
CATEGORIES:Monthly General Meeting
ORGANIZER;CN="Canyon Democrats":MAILTO:info@canyondems.org
END:VEVENT
BEGIN:VEVENT
DTSTART;TZID=America/Los_Angeles:20240319T183000
DTEND;TZID=America/Los_Angeles:20240319T200000
DTSTAMP:20260423T132536
CREATED:20240221T235854Z
LAST-MODIFIED:20240313T221214Z
UID:6888-1710873000-1710878400@canyondems.org
SUMMARY:General Meeting: Gun Violence Prevention Advocacy
DESCRIPTION:
URL:https://canyondems.org/event/general-meeting-gun-violence-prevention-advocacy/
LOCATION:Norman P. Murray Community & Senior Center\, 24932 Veterans Way\, Mission Viejo\, CA\, 92692\, United States
CATEGORIES:Monthly General Meeting
ORGANIZER;CN="Canyon Democrats":MAILTO:info@canyondems.org
END:VEVENT
BEGIN:VEVENT
DTSTART;TZID=America/Los_Angeles:20240220T183000
DTEND;TZID=America/Los_Angeles:20240220T200000
DTSTAMP:20260423T132536
CREATED:20240120T213428Z
LAST-MODIFIED:20240201T051248Z
UID:6866-1708453800-1708459200@canyondems.org
SUMMARY:General Meeting: Legislative Advocacy with Kevin Gordon
DESCRIPTION:
URL:https://canyondems.org/event/general-meeting-legislative-advocacy/
LOCATION:Norman P. Murray Community & Senior Center\, 24932 Veterans Way\, Mission Viejo\, CA\, 92692\, United States
CATEGORIES:Monthly General Meeting
ORGANIZER;CN="Canyon Democrats":MAILTO:info@canyondems.org
END:VEVENT
BEGIN:VEVENT
DTSTART;TZID=America/Los_Angeles:20240123T183000
DTEND;TZID=America/Los_Angeles:20240123T200000
DTSTAMP:20260423T132536
CREATED:20231215T233340Z
LAST-MODIFIED:20240115T021112Z
UID:6836-1706034600-1706040000@canyondems.org
SUMMARY:General Meeting: Meet the Candidates for CA 40 Plus Aisha O'Neil
DESCRIPTION:
URL:https://canyondems.org/event/general-meeting-meet-the-cd40-candidates/
LOCATION:Norman P. Murray Community & Senior Center\, 24932 Veterans Way\, Mission Viejo\, CA\, 92692\, United States
CATEGORIES:Monthly General Meeting
ORGANIZER;CN="Canyon Democrats":MAILTO:info@canyondems.org
END:VEVENT
BEGIN:VEVENT
DTSTART;TZID=America/Los_Angeles:20231209T110000
DTEND;TZID=America/Los_Angeles:20231209T130000
DTSTAMP:20260423T132536
CREATED:20231108T000644Z
LAST-MODIFIED:20231108T012903Z
UID:6821-1702119600-1702126800@canyondems.org
SUMMARY:2023 O'Neill Holiday Brunch
DESCRIPTION:  \nBUY TICKETS NOW\nCelebrate with us at this festive event as we build excitement for the 2024 elections. Enjoy a delicious brunch at the picturesque Arroyo Trabuco Golf Club. This event always sells out quickly\, so be sure to get your tickets early! \nOur guest speaker will be Betty Yee\, Vice Chair of the California Democratic Party\, former California State Controller from 2015-2023 and 2026 candidate for Governor of California. The Master of Ceremonies for the event will be California State Senator (SD 29) Josh Newman.  \nSaturday\, December 9\, 2023 \n11:00 a.m. – 1:00 p.m. \nArroyo Trabuco Country Club \n26772 Avery Parkway Mission Viejo \n____ \nQuestions? Email info@canyondems.org \n  \nBUY TICKETS NOW\n 
URL:https://canyondems.org/event/2023-oneill-holiday-brunch-2/
LOCATION:Arroyo Trabuco Golf Club\, 26772 Avery Parkway\, Mission Viejo\, CA\, 92692\, United States
CATEGORIES:Event
END:VEVENT
BEGIN:VEVENT
DTSTART;TZID=America/Los_Angeles:20231114T183000
DTEND;TZID=America/Los_Angeles:20231114T203000
DTSTAMP:20260423T132536
CREATED:20231019T035626Z
LAST-MODIFIED:20240120T220820Z
UID:6808-1699986600-1699993800@canyondems.org
SUMMARY:General Meeting: Decoding the Attacks on Education
DESCRIPTION:
URL:https://canyondems.org/event/decoding-the-attacks-on-education/
LOCATION:Norman P. Murray Community & Senior Center\, 24932 Veterans Way\, Mission Viejo\, CA\, 92692\, United States
CATEGORIES:Monthly General Meeting
ATTACH;FMTTYPE=image/png:https://canyondems.org/wp-content/uploads/2023/10/Copy-of-Oct-2023-Meeting-Notice.png
ORGANIZER;CN="Canyon Democrats":MAILTO:info@canyondems.org
END:VEVENT
BEGIN:VEVENT
DTSTART;TZID=America/Los_Angeles:20231028T190000
DTEND;TZID=America/Los_Angeles:20231028T220000
DTSTAMP:20260423T132536
CREATED:20231012T202848Z
LAST-MODIFIED:20231012T203153Z
UID:6801-1698519600-1698530400@canyondems.org
SUMMARY:Halloween Party CarnEVIL
DESCRIPTION:GET TICKETS NOW\nCelebrate Halloween with Canyon Dems! You will enjoy tasty nibbles\, beer\, wine & soft drinks along with the undying satisfaction of supporting Democrats. \nYou will receive the address of our hosts in Lake Forest upon purchase of your tickets. The wearing of costumes is encouraged! \nTickets are the frightfully reasonable price of $30 per person. \nGET TICKETS NOW\nQuestions? Email info@canyondems.org \nThis event is open to Canyon Dems & their guests only.
URL:https://canyondems.org/event/halloween-fundraising-party-23/
LOCATION:Home of a Mission Viejo Member\, Mission Viejo\, CA\, United States
CATEGORIES:Event
ORGANIZER;CN="Canyon Democrats":MAILTO:info@canyondems.org
END:VEVENT
BEGIN:VEVENT
DTSTART;TZID=America/Los_Angeles:20231017T183000
DTEND;TZID=America/Los_Angeles:20231017T203000
DTSTAMP:20260423T132536
CREATED:20230920T220633Z
LAST-MODIFIED:20230923T183133Z
UID:6779-1697567400-1697574600@canyondems.org
SUMMARY:General Meeting: Let's Reclaim Medicare From the Profiteers
DESCRIPTION:
URL:https://canyondems.org/event/general-meeting-medicare-advantage/
LOCATION:Norman P. Murray Community & Senior Center\, 24932 Veterans Way\, Mission Viejo\, CA\, 92692\, United States
CATEGORIES:Monthly General Meeting
ATTACH;FMTTYPE=image/png:https://canyondems.org/wp-content/uploads/2023/09/Oct-2023-Meeting-Notice-1.png
ORGANIZER;CN="Canyon Democrats":MAILTO:info@canyondems.org
END:VEVENT
BEGIN:VEVENT
DTSTART;TZID=America/Los_Angeles:20230919T183000
DTEND;TZID=America/Los_Angeles:20230919T203000
DTSTAMP:20260423T132536
CREATED:20230906T175411Z
LAST-MODIFIED:20230914T174848Z
UID:6762-1695148200-1695155400@canyondems.org
SUMMARY:General Meeting & Panel: Is this the Beginning of the End of Public Education?
DESCRIPTION:
URL:https://canyondems.org/event/general-meeting-panel-is-this-the-beginning-of-the-end-of-public-education/
LOCATION:Norman P. Murray Community & Senior Center\, 24932 Veterans Way\, Mission Viejo\, CA\, 92692\, United States
CATEGORIES:Monthly General Meeting
ORGANIZER;CN="Canyon Democrats":MAILTO:info@canyondems.org
END:VEVENT
BEGIN:VEVENT
DTSTART;TZID=America/Los_Angeles:20230815T183000
DTEND;TZID=America/Los_Angeles:20230815T200000
DTSTAMP:20260423T132536
CREATED:20230720T195638Z
LAST-MODIFIED:20230722T224531Z
UID:6732-1692124200-1692129600@canyondems.org
SUMMARY:General Meeting Feat. Megan Yoo Schneider
DESCRIPTION:
URL:https://canyondems.org/event/general-meeting-feat-meganyooschneider/
LOCATION:Norman P. Murray Community & Senior Center\, 24932 Veterans Way\, Mission Viejo\, CA\, 92692\, United States
CATEGORIES:Monthly General Meeting
ORGANIZER;CN="Canyon Democrats":MAILTO:info@canyondems.org
END:VEVENT
BEGIN:VEVENT
DTSTART;TZID=America/Los_Angeles:20230728T190000
DTEND;TZID=America/Los_Angeles:20230728T203000
DTSTAMP:20260423T132536
CREATED:20230521T022723Z
LAST-MODIFIED:20230707T173400Z
UID:6665-1690570800-1690576200@canyondems.org
SUMMARY:Ice Cream Social Fundraiser 23
DESCRIPTION:GET TICKETS NOW\nJoin us for our annual Ice Cream Social fundraiser!! Help us raise money while enjoying delicious ice cream. This event will be at the Norman Murray Center in Mission Viejo. \nBring the whole family and celebrate with us! This is a definitely a kid-friendly event for all ages! \nBig Kids – $20\nActual Kids – $10 \nGET TICKETS NOW\nQuestions? Email info@canyondems.org \nThis event is open to Canyon Dems\, their guests and registered Democrats only.
URL:https://canyondems.org/event/ice-cream-social-fundraiser23/
LOCATION:Norman P. Murray Community & Senior Center\, 24932 Veterans Way\, Mission Viejo\, CA\, 92692\, United States
CATEGORIES:Event
ORGANIZER;CN="Canyon Democrats":MAILTO:info@canyondems.org
END:VEVENT
BEGIN:VEVENT
DTSTART;TZID=America/Los_Angeles:20230718T183000
DTEND;TZID=America/Los_Angeles:20230718T200000
DTSTAMP:20260423T132536
CREATED:20230621T013004Z
LAST-MODIFIED:20230622T035531Z
UID:6698-1689705000-1689710400@canyondems.org
SUMMARY:General Meeting Feat. Russ Feingold
DESCRIPTION:
URL:https://canyondems.org/event/general-meeting-feat-russ-feingold/
LOCATION:Norman P. Murray Community & Senior Center\, 24932 Veterans Way\, Mission Viejo\, CA\, 92692\, United States
CATEGORIES:Monthly General Meeting
ORGANIZER;CN="Canyon Democrats":MAILTO:info@canyondems.org
END:VEVENT
BEGIN:VEVENT
DTSTART;TZID=America/Los_Angeles:20230718T170000
DTEND;TZID=America/Los_Angeles:20230718T183000
DTSTAMP:20260423T132536
CREATED:20230528T035829Z
LAST-MODIFIED:20230712T175632Z
UID:6674-1689699600-1689705000@canyondems.org
SUMMARY:VIP Reception with Russ Feingold
DESCRIPTION:GET TICKETS NOW\nCome meet former Senator Russ Feingold at our VIP Reception prior to our July 18th Meeting where he will be our guest speaker. \nRuss Feingold served as a US Senator from Wisconsin from 1993 – 2011. He co-sponsored the McCain-Feingold Act\, a major piece of campaign finance reform legislation\, for which he and John McCain were awarded the Profile in Courage Award. \nDelicious appetizers you can make a meal out of will be served! \nTickets – $50. \nGET TICKETS NOW\nQuestions? Email info@canyondems.org \nThis event is open to Canyon Dems\, their guests and registered Democrats only.
URL:https://canyondems.org/event/vip_feingold/
LOCATION:Norman P. Murray Community & Senior Center\, 24932 Veterans Way\, Mission Viejo\, CA\, 92692\, United States
CATEGORIES:Event
ORGANIZER;CN="Canyon Democrats":MAILTO:info@canyondems.org
END:VEVENT
BEGIN:VEVENT
DTSTART;TZID=America/Los_Angeles:20230704T090000
DTEND;TZID=America/Los_Angeles:20230704T210000
DTSTAMP:20260423T132536
CREATED:20230513T221042Z
LAST-MODIFIED:20230513T221656Z
UID:6642-1688461200-1688504400@canyondems.org
SUMMARY:Mission Viejo July 4th Street Fair
DESCRIPTION:SIGN UP!\n  \nMission Viejo’s annual 4th of July Street Faire is a fantastic place to share the word about our club. The Canyon Democrats will have a booth and we need volunteers to sign up for 2-hour shifts and also to help with setup and take-down. \nSIGN UP!\nQuestions? Email info@canyondems.org \n 
URL:https://canyondems.org/event/mv-july4-street-fair-23/
LOCATION:Street Faire – Olympiad between Marguerite & Melinda\, Olympiad\, Mission Viejo\, United States
CATEGORIES:Event
ATTACH;FMTTYPE=image/png:https://canyondems.org/wp-content/uploads/2023/05/4th-of-July-Independence-Day-Facebook-Post-.png
ORGANIZER;CN="Canyon Democrats":MAILTO:info@canyondems.org
END:VEVENT
END:VCALENDAR