BEGIN:VCALENDAR
VERSION:2.0
PRODID:-//Canyon Democrats - ECPv6.15.3//NONSGML v1.0//EN
CALSCALE:GREGORIAN
METHOD:PUBLISH
X-WR-CALNAME:Canyon Democrats
X-ORIGINAL-URL:https://canyondems.org
X-WR-CALDESC:Events for Canyon Democrats
REFRESH-INTERVAL;VALUE=DURATION:PT1H
X-Robots-Tag:noindex
X-PUBLISHED-TTL:PT1H
BEGIN:VTIMEZONE
TZID:America/Los_Angeles
BEGIN:DAYLIGHT
TZOFFSETFROM:-0800
TZOFFSETTO:-0700
TZNAME:PDT
DTSTART:20230312T100000
END:DAYLIGHT
BEGIN:STANDARD
TZOFFSETFROM:-0700
TZOFFSETTO:-0800
TZNAME:PST
DTSTART:20231105T090000
END:STANDARD
END:VTIMEZONE
BEGIN:VEVENT
DTSTART;TZID=America/Los_Angeles:20230211T140000
DTEND;TZID=America/Los_Angeles:20230211T160000
DTSTAMP:20260425T202130
CREATED:20230117T020032Z
LAST-MODIFIED:20230124T192207Z
UID:6497-1676124000-1676131200@canyondems.org
SUMMARY:Wine tasting Fundraiser
DESCRIPTION:GET TICKETS NOW\n  \nEnjoy a lovely afternoon with us for our “Love the Wine You’re With” FUNdraiser. We’ll get to sample some delicious wines along with scrumptious hors d’oeuvres and delectable desserts. \nAll this for just $35 per person. \nGET TICKETS NOW\nQuestions? Email info@canyondems.org \nThis event is open to Canyon Dems & their guests only. \n\n\n                    \n                        \n                        \n                    \n\n        \n        Courageous Citizenship\nJeremy Cohen\, PhD    \n\n\n\n    \n        \n                        \n        \n                        \n                        \n                        \n                    \n\n        \n                \n        \n    \n    \n        \n        \n                    \n                    \n\n        \n        Dr. Mike Moodian & Dr. Fred Smoller\nDr. Mike Moodian has served as a faculty member at Chapman University since 2007 and teached for the leadership studies program.  \nDr. Fred Smoller is an Associate Professor of Political Science at Chapman University where he has been a member of the faculty since 1983.     \n\n        \n                        \n        \n                        \n                        \n                        \n                    \n\n        \n                \n        \n    \n    \n        \n        \n                    \n                    \n\n        \n        Michael Sall\nMichael is the DPOC Director of Democratic Clubs and an attorney at Sall Spencer Callas & Krueger in Laguna Beach\, California\, with a practice in legal ethics and business litigation. He is also a member of the Aliso Niguel Democratic Club and their former Chair.        \n\n        \n                        \n        \n                        \n                        \n                        \n                    \n\n        \n                \n        \n    \n    \n        \n\n\n        \n        NOVEMBER COMMUNITY OUTREACH\nThis month our community partner is Toys for Tots. \nPlease bring one or more NEW and UNWRAPPED gifts or Gift Cards from Walmart or Target ($25) to our meeting. \nRequested items are gifts for “forgotten ages”: \n – Toddlers from 6 months – 3 years \n – Teenagers – ear pods\, games\, sports equipment\, skateboards\, craft or jewelry kits \nOur Community Outreach Liaison\, Ann Owens\, is also collecting new bicycles. If you would like to donate a bike\, please contact her at outreach@canyondems.org to arrange a time to drop it at her house in Lake Forest. \nThanks for your support of our community!
URL:https://canyondems.org/event/winetasting-fundraiser/
LOCATION:Home of a Mission Viejo Member\, Mission Viejo\, CA\, United States
CATEGORIES:Event
ATTACH;FMTTYPE=image/jpeg:https://canyondems.org/wp-content/uploads/2023/01/winetime.jpg
ORGANIZER;CN="Canyon Democrats":MAILTO:info@canyondems.org
END:VEVENT
BEGIN:VEVENT
DTSTART;TZID=America/Los_Angeles:20230221T183000
DTEND;TZID=America/Los_Angeles:20230221T210000
DTSTAMP:20260425T202130
CREATED:20230127T184144Z
LAST-MODIFIED:20230216T210456Z
UID:6514-1677004200-1677013200@canyondems.org
SUMMARY:General Meeting Feat. Todd Harmonson\, OC Register\, Senior Editor
DESCRIPTION:Courageous Citizenship\nJeremy Cohen\, PhD    \n\n\n\n    \n        \n                        \n        \n                        \n                        \n                        \n                    \n\n        \n                \n        \n    \n    \n        \n        \n                    \n                    \n\n        \n        Dr. Mike Moodian & Dr. Fred Smoller\nDr. Mike Moodian has served as a faculty member at Chapman University since 2007 and teached for the leadership studies program.  \nDr. Fred Smoller is an Associate Professor of Political Science at Chapman University where he has been a member of the faculty since 1983.     \n\n        \n                        \n        \n                        \n                        \n                        \n                    \n\n        \n                \n        \n    \n    \n        \n        \n                    \n                    \n\n        \n        Michael Sall\nMichael is the DPOC Director of Democratic Clubs and an attorney at Sall Spencer Callas & Krueger in Laguna Beach\, California\, with a practice in legal ethics and business litigation. He is also a member of the Aliso Niguel Democratic Club and their former Chair.        \n\n        \n                        \n        \n                        \n                        \n                        \n                    \n\n        \n                \n        \n    \n    \n        \n\n\n        \n        NOVEMBER COMMUNITY OUTREACH\nThis month our community partner is Toys for Tots. \nPlease bring one or more NEW and UNWRAPPED gifts or Gift Cards from Walmart or Target ($25) to our meeting. \nRequested items are gifts for “forgotten ages”: \n – Toddlers from 6 months – 3 years \n – Teenagers – ear pods\, games\, sports equipment\, skateboards\, craft or jewelry kits \nOur Community Outreach Liaison\, Ann Owens\, is also collecting new bicycles. If you would like to donate a bike\, please contact her at outreach@canyondems.org to arrange a time to drop it at her house in Lake Forest. \nThanks for your support of our community!
URL:https://canyondems.org/event/general-meeting-feat-todd-harmonson/
LOCATION:Norman P. Murray Community & Senior Center\, 24932 Veterans Way\, Mission Viejo\, CA\, 92692\, United States
CATEGORIES:Monthly General Meeting
ATTACH;FMTTYPE=image/jpeg:https://canyondems.org/wp-content/uploads/2023/01/harmonson_mug.jpg
ORGANIZER;CN="Canyon Democrats":MAILTO:info@canyondems.org
END:VEVENT
END:VCALENDAR