BEGIN:VCALENDAR
VERSION:2.0
PRODID:-//Canyon Democrats - ECPv6.15.3//NONSGML v1.0//EN
CALSCALE:GREGORIAN
METHOD:PUBLISH
X-ORIGINAL-URL:https://canyondems.org
X-WR-CALDESC:Events for Canyon Democrats
REFRESH-INTERVAL;VALUE=DURATION:PT1H
X-Robots-Tag:noindex
X-PUBLISHED-TTL:PT1H
BEGIN:VTIMEZONE
TZID:America/Los_Angeles
BEGIN:DAYLIGHT
TZOFFSETFROM:-0800
TZOFFSETTO:-0700
TZNAME:PDT
DTSTART:20230312T100000
END:DAYLIGHT
BEGIN:STANDARD
TZOFFSETFROM:-0700
TZOFFSETTO:-0800
TZNAME:PST
DTSTART:20231105T090000
END:STANDARD
END:VTIMEZONE
BEGIN:VEVENT
DTSTART;TZID=America/Los_Angeles:20230704T090000
DTEND;TZID=America/Los_Angeles:20230704T210000
DTSTAMP:20260425T122503
CREATED:20230513T221042Z
LAST-MODIFIED:20230513T221656Z
UID:6642-1688461200-1688504400@canyondems.org
SUMMARY:Mission Viejo July 4th Street Fair
DESCRIPTION:SIGN UP!\n  \nMission Viejo’s annual 4th of July Street Faire is a fantastic place to share the word about our club. The Canyon Democrats will have a booth and we need volunteers to sign up for 2-hour shifts and also to help with setup and take-down. \nSIGN UP!\nQuestions? Email info@canyondems.org \n  \n\n\n                    \n                        \n                        \n                    \n\n        \n        Courageous Citizenship\nJeremy Cohen\, PhD    \n\n\n\n    \n        \n                        \n        \n                        \n                        \n                        \n                    \n\n        \n                \n        \n    \n    \n        \n        \n                    \n                    \n\n        \n        Dr. Mike Moodian & Dr. Fred Smoller\nDr. Mike Moodian has served as a faculty member at Chapman University since 2007 and teached for the leadership studies program.  \nDr. Fred Smoller is an Associate Professor of Political Science at Chapman University where he has been a member of the faculty since 1983.     \n\n        \n                        \n        \n                        \n                        \n                        \n                    \n\n        \n                \n        \n    \n    \n        \n        \n                    \n                    \n\n        \n        Michael Sall\nMichael is the DPOC Director of Democratic Clubs and an attorney at Sall Spencer Callas & Krueger in Laguna Beach\, California\, with a practice in legal ethics and business litigation. He is also a member of the Aliso Niguel Democratic Club and their former Chair.        \n\n        \n                        \n        \n                        \n                        \n                        \n                    \n\n        \n                \n        \n    \n    \n        \n\n\n        \n        NOVEMBER COMMUNITY OUTREACH\nThis month our community partner is Toys for Tots. \nPlease bring one or more NEW and UNWRAPPED gifts or Gift Cards from Walmart or Target ($25) to our meeting. \nRequested items are gifts for “forgotten ages”: \n – Toddlers from 6 months – 3 years \n – Teenagers – ear pods\, games\, sports equipment\, skateboards\, craft or jewelry kits \nOur Community Outreach Liaison\, Ann Owens\, is also collecting new bicycles. If you would like to donate a bike\, please contact her at outreach@canyondems.org to arrange a time to drop it at her house in Lake Forest. \nThanks for your support of our community!
URL:https://canyondems.org/event/mv-july4-street-fair-23/
LOCATION:Street Faire – Olympiad between Marguerite & Melinda\, Olympiad\, Mission Viejo\, United States
CATEGORIES:Event
ATTACH;FMTTYPE=image/png:https://canyondems.org/wp-content/uploads/2023/05/4th-of-July-Independence-Day-Facebook-Post-.png
ORGANIZER;CN="Canyon Democrats":MAILTO:info@canyondems.org
END:VEVENT
BEGIN:VEVENT
DTSTART;TZID=America/Los_Angeles:20230718T170000
DTEND;TZID=America/Los_Angeles:20230718T183000
DTSTAMP:20260425T122503
CREATED:20230528T035829Z
LAST-MODIFIED:20230712T175632Z
UID:6674-1689699600-1689705000@canyondems.org
SUMMARY:VIP Reception with Russ Feingold
DESCRIPTION:GET TICKETS NOW\nCome meet former Senator Russ Feingold at our VIP Reception prior to our July 18th Meeting where he will be our guest speaker. \nRuss Feingold served as a US Senator from Wisconsin from 1993 – 2011. He co-sponsored the McCain-Feingold Act\, a major piece of campaign finance reform legislation\, for which he and John McCain were awarded the Profile in Courage Award. \nDelicious appetizers you can make a meal out of will be served! \nTickets – $50. \nGET TICKETS NOW\nQuestions? Email info@canyondems.org \nThis event is open to Canyon Dems\, their guests and registered Democrats only. \n\n\n                    \n                        \n                        \n                    \n\n        \n        Courageous Citizenship\nJeremy Cohen\, PhD    \n\n\n\n    \n        \n                        \n        \n                        \n                        \n                        \n                    \n\n        \n                \n        \n    \n    \n        \n        \n                    \n                    \n\n        \n        Dr. Mike Moodian & Dr. Fred Smoller\nDr. Mike Moodian has served as a faculty member at Chapman University since 2007 and teached for the leadership studies program.  \nDr. Fred Smoller is an Associate Professor of Political Science at Chapman University where he has been a member of the faculty since 1983.     \n\n        \n                        \n        \n                        \n                        \n                        \n                    \n\n        \n                \n        \n    \n    \n        \n        \n                    \n                    \n\n        \n        Michael Sall\nMichael is the DPOC Director of Democratic Clubs and an attorney at Sall Spencer Callas & Krueger in Laguna Beach\, California\, with a practice in legal ethics and business litigation. He is also a member of the Aliso Niguel Democratic Club and their former Chair.        \n\n        \n                        \n        \n                        \n                        \n                        \n                    \n\n        \n                \n        \n    \n    \n        \n\n\n        \n        NOVEMBER COMMUNITY OUTREACH\nThis month our community partner is Toys for Tots. \nPlease bring one or more NEW and UNWRAPPED gifts or Gift Cards from Walmart or Target ($25) to our meeting. \nRequested items are gifts for “forgotten ages”: \n – Toddlers from 6 months – 3 years \n – Teenagers – ear pods\, games\, sports equipment\, skateboards\, craft or jewelry kits \nOur Community Outreach Liaison\, Ann Owens\, is also collecting new bicycles. If you would like to donate a bike\, please contact her at outreach@canyondems.org to arrange a time to drop it at her house in Lake Forest. \nThanks for your support of our community!
URL:https://canyondems.org/event/vip_feingold/
LOCATION:Norman P. Murray Community & Senior Center\, 24932 Veterans Way\, Mission Viejo\, CA\, 92692\, United States
CATEGORIES:Event
ORGANIZER;CN="Canyon Democrats":MAILTO:info@canyondems.org
END:VEVENT
BEGIN:VEVENT
DTSTART;TZID=America/Los_Angeles:20230718T183000
DTEND;TZID=America/Los_Angeles:20230718T200000
DTSTAMP:20260425T122503
CREATED:20230621T013004Z
LAST-MODIFIED:20230622T035531Z
UID:6698-1689705000-1689710400@canyondems.org
SUMMARY:General Meeting Feat. Russ Feingold
DESCRIPTION:Courageous Citizenship\nJeremy Cohen\, PhD    \n\n\n\n    \n        \n                        \n        \n                        \n                        \n                        \n                    \n\n        \n                \n        \n    \n    \n        \n        \n                    \n                    \n\n        \n        Dr. Mike Moodian & Dr. Fred Smoller\nDr. Mike Moodian has served as a faculty member at Chapman University since 2007 and teached for the leadership studies program.  \nDr. Fred Smoller is an Associate Professor of Political Science at Chapman University where he has been a member of the faculty since 1983.     \n\n        \n                        \n        \n                        \n                        \n                        \n                    \n\n        \n                \n        \n    \n    \n        \n        \n                    \n                    \n\n        \n        Michael Sall\nMichael is the DPOC Director of Democratic Clubs and an attorney at Sall Spencer Callas & Krueger in Laguna Beach\, California\, with a practice in legal ethics and business litigation. He is also a member of the Aliso Niguel Democratic Club and their former Chair.        \n\n        \n                        \n        \n                        \n                        \n                        \n                    \n\n        \n                \n        \n    \n    \n        \n\n\n        \n        NOVEMBER COMMUNITY OUTREACH\nThis month our community partner is Toys for Tots. \nPlease bring one or more NEW and UNWRAPPED gifts or Gift Cards from Walmart or Target ($25) to our meeting. \nRequested items are gifts for “forgotten ages”: \n – Toddlers from 6 months – 3 years \n – Teenagers – ear pods\, games\, sports equipment\, skateboards\, craft or jewelry kits \nOur Community Outreach Liaison\, Ann Owens\, is also collecting new bicycles. If you would like to donate a bike\, please contact her at outreach@canyondems.org to arrange a time to drop it at her house in Lake Forest. \nThanks for your support of our community!
URL:https://canyondems.org/event/general-meeting-feat-russ-feingold/
LOCATION:Norman P. Murray Community & Senior Center\, 24932 Veterans Way\, Mission Viejo\, CA\, 92692\, United States
CATEGORIES:Monthly General Meeting
ORGANIZER;CN="Canyon Democrats":MAILTO:info@canyondems.org
END:VEVENT
BEGIN:VEVENT
DTSTART;TZID=America/Los_Angeles:20230728T190000
DTEND;TZID=America/Los_Angeles:20230728T203000
DTSTAMP:20260425T122503
CREATED:20230521T022723Z
LAST-MODIFIED:20230707T173400Z
UID:6665-1690570800-1690576200@canyondems.org
SUMMARY:Ice Cream Social Fundraiser 23
DESCRIPTION:GET TICKETS NOW\nJoin us for our annual Ice Cream Social fundraiser!! Help us raise money while enjoying delicious ice cream. This event will be at the Norman Murray Center in Mission Viejo. \nBring the whole family and celebrate with us! This is a definitely a kid-friendly event for all ages! \nBig Kids – $20\nActual Kids – $10 \nGET TICKETS NOW\nQuestions? Email info@canyondems.org \nThis event is open to Canyon Dems\, their guests and registered Democrats only. \n\n\n                    \n                        \n                        \n                    \n\n        \n        Courageous Citizenship\nJeremy Cohen\, PhD    \n\n\n\n    \n        \n                        \n        \n                        \n                        \n                        \n                    \n\n        \n                \n        \n    \n    \n        \n        \n                    \n                    \n\n        \n        Dr. Mike Moodian & Dr. Fred Smoller\nDr. Mike Moodian has served as a faculty member at Chapman University since 2007 and teached for the leadership studies program.  \nDr. Fred Smoller is an Associate Professor of Political Science at Chapman University where he has been a member of the faculty since 1983.     \n\n        \n                        \n        \n                        \n                        \n                        \n                    \n\n        \n                \n        \n    \n    \n        \n        \n                    \n                    \n\n        \n        Michael Sall\nMichael is the DPOC Director of Democratic Clubs and an attorney at Sall Spencer Callas & Krueger in Laguna Beach\, California\, with a practice in legal ethics and business litigation. He is also a member of the Aliso Niguel Democratic Club and their former Chair.        \n\n        \n                        \n        \n                        \n                        \n                        \n                    \n\n        \n                \n        \n    \n    \n        \n\n\n        \n        NOVEMBER COMMUNITY OUTREACH\nThis month our community partner is Toys for Tots. \nPlease bring one or more NEW and UNWRAPPED gifts or Gift Cards from Walmart or Target ($25) to our meeting. \nRequested items are gifts for “forgotten ages”: \n – Toddlers from 6 months – 3 years \n – Teenagers – ear pods\, games\, sports equipment\, skateboards\, craft or jewelry kits \nOur Community Outreach Liaison\, Ann Owens\, is also collecting new bicycles. If you would like to donate a bike\, please contact her at outreach@canyondems.org to arrange a time to drop it at her house in Lake Forest. \nThanks for your support of our community!
URL:https://canyondems.org/event/ice-cream-social-fundraiser23/
LOCATION:Norman P. Murray Community & Senior Center\, 24932 Veterans Way\, Mission Viejo\, CA\, 92692\, United States
CATEGORIES:Event
ORGANIZER;CN="Canyon Democrats":MAILTO:info@canyondems.org
END:VEVENT
END:VCALENDAR